Workbook

Sheet Sheet1
A1: # months per year requiring each volatility class
A2: volatility class -> | B2: 1 | C2: 2 | D2: 3
A3: AL | B3: 5 | C3: 7 | D3: 0
A4: AK - southern region | B4: 2 | C4: 2 | D4: 8
A5: AK - south mainland | B5: 1 | C5: 3 | D5: 8
A6: AZ - north of 34 degrees | B6: 3 | C6: 3 | D6: 6
A7: AZ - south of 34 degrees | B7: 6 | C7: 6 | D7: 0
A8: AR | B8: 5 | C8: 3 | D8: 4
A9: CA - north coast | B9: 4 | C9: 8 | D9: 0
A10: CA - south coast | B10: 5 | C10: 7 | D10: 0
A11: CA - southeast | B11: 4 | C11: 5 | D11: 3
A12: CA - interior | B12: 4 | C12: 8 | D12: 0
A13: CO - east of 105 long | B13: 3 | C13: 3 | D13: 6
... A69: WY | B69: 1 | C69: 4 | D69: 7

Sheet Sheet2
A1: FID | B1: OBJECTID | C1: NAME | D1: STATE_NAME | E1: FIPS | F1: Latitude | G1: Longitude | H1: Months/yr in volatility class 1 | I1: Months/yr in volatility class 2 | J1: Months/yr in volatility class 3 | K1: Min EtOH content (%) | L1: Min Hydrocarbons (%) | M1: Max Hydrocarbons (%) | N1: Avg EtOH content (%)
A2: 0 | B2: 1 | C2: Autauga | D2: Alabama | E2: 1001 | F2: 33 | G2: -87 | H2: =Sheet1!B$3 -> 5 | I2: =Sheet1!C$3 -> 7 | J2: =Sheet1!D$3 -> 0 | K2: =(Sheet2!$H2*Sheet3!$C$3+Sheet2!$I2*Sheet3!$D$3+Sheet2!$J2*Sheet3!$E$3)/SUM(Sheet2!$H2:$J2) -> 0.76083333 | L2: =(Sheet2!$H2*Sheet3!$C$4+Sheet2!$I2*Sheet3!$D$4+Sheet2!$J2*Sheet3!$E$4)/SUM(Sheet2!$H2:$J2) -> 0.17 | M2: =(Sheet2!$H2*Sheet3!$C$5+Sheet2!$I2*Sheet3!$D$5+Sheet2!$J2*Sheet3!$E$5)/SUM(Sheet2!$H2:$J2) -> 0.23916667 | N2: =(K2+(1-L2))/2 -> 0.79541667
A3: 1 | B3: 2 | C3: Baldwin | D3: Alabama | E3: 1003 | F3: 31 | G3: -88 | H3: =Sheet1!B$3 -> 5 | I3: =Sheet1!C$3 -> 7 | J3: =Sheet1!D$3 -> 0 | K3: =(Sheet2!$H3*Sheet3!$C$3+Sheet2!$I3*Sheet3!$D$3+Sheet2!$J3*Sheet3!$E$3)/SUM(Sheet2!$H3:$J3) -> 0.76083333 | L3: =(Sheet2!$H3*Sheet3!$C$4+Sheet2!$I3*Sheet3!$D$4+Sheet2!$J3*Sheet3!$E$4)/SUM(Sheet2!$H3:$J3) -> 0.17 | M3: =(Sheet2!$H3*Sheet3!$C$5+Sheet2!$I3*Sheet3!$D$5+Sheet2!$J3*Sheet3!$E$5)/SUM(Sheet2!$H3:$J3) -> 0.23916667 | N3: =(K3+(1-L3))/2 -> 0.79541667
A4: 2 | B4: 3 | C4: Barbour | D4: Alabama | E4: 1005 | F4: 32 | G4: -85 | H4: =Sheet1!B$3 -> 5 | I4: =Sheet1!C$3 -> 7 | J4: =Sheet1!D$3 -> 0 | K4: =(Sheet2!$H4*Sheet3!$C$3+Sheet2!$I4*Sheet3!$D$3+Sheet2!$J4*Sheet3!$E$3)/SUM(Sheet2!$H4:$J4) -> 0.76083333 | L4: =(Sheet2!$H4*Sheet3!$C$4+Sheet2!$I4*Sheet3!$D$4+Sheet2!$J4*Sheet3!$E$4)/SUM(Sheet2!$H4:$J4) -> 0.17 | M4: =(Sheet2!$H4*Sheet3!$C$5+Sheet2!$I4*Sheet3!$D$5+Sheet2!$J4*Sheet3!$E$5)/SUM(Sheet2!$H4:$J4) -> 0.23916667 | N4: =(K4+(1-L4))/2 -> 0.79541667
A5: 3 | B5: 4 | C5: Bibb | D5: Alabama | E5: 1007 | F5: 33 | G5: -87 | H5: =Sheet1!B$3 -> 5 | I5: =Sheet1!C$3 -> 7 | J5: =Sheet1!D$3 -> 0 | K5: =(Sheet2!$H5*Sheet3!$C$3+Sheet2!$I5*Sheet3!$D$3+Sheet2!$J5*Sheet3!$E$3)/SUM(Sheet2!$H5:$J5) -> 0.76083333 | L5: =(Sheet2!$H5*Sheet3!$C$4+Sheet2!$I5*Sheet3!$D$4+Sheet2!$J5*Sheet3!$E$4)/SUM(Sheet2!$H5:$J5) -> 0.17 | M5: =(Sheet2!$H5*Sheet3!$C$5+Sheet2!$I5*Sheet3!$D$5+Sheet2!$J5*Sheet3!$E$5)/SUM(Sheet2!$H5:$J5) -> 0.23916667 | N5: =(K5+(1-L5))/2 -> 0.79541667
A6: 4 | B6: 5 | C6: Blount | D6: Alabama | E6: 1009 | F6: 34 | G6: -87 | H6: =Sheet1!B$3 -> 5 | I6: =Sheet1!C$3 -> 7 | J6: =Sheet1!D$3 -> 0 | K6: =(Sheet2!$H6*Sheet3!$C$3+Sheet2!$I6*Sheet3!$D$3+Sheet2!$J6*Sheet3!$E$3)/SUM(Sheet2!$H6:$J6) -> 0.76083333 | L6: =(Sheet2!$H6*Sheet3!$C$4+Sheet2!$I6*Sheet3!$D$4+Sheet2!$J6*Sheet3!$E$4)/SUM(Sheet2!$H6:$J6) -> 0.17 | M6: =(Sheet2!$H6*Sheet3!$C$5+Sheet2!$I6*Sheet3!$D$5+Sheet2!$J6*Sheet3!$E$5)/SUM(Sheet2!$H6:$J6) -> 0.23916667 | N6: =(K6+(1-L6))/2 -> 0.79541667
A7: 5 | B7: 6 | C7: Bullock | D7: Alabama | E7: 1011 | F7: 32 | G7: -86 | H7: =Sheet1!B$3 -> 5 | I7: =Sheet1!C$3 -> 7 | J7: =Sheet1!D$3 -> 0 | K7: =(Sheet2!$H7*Sheet3!$C$3+Sheet2!$I7*Sheet3!$D$3+Sheet2!$J7*Sheet3!$E$3)/SUM(Sheet2!$H7:$J7) -> 0.76083333 | L7: =(Sheet2!$H7*Sheet3!$C$4+Sheet2!$I7*Sheet3!$D$4+Sheet2!$J7*Sheet3!$E$4)/SUM(Sheet2!$H7:$J7) -> 0.17 | M7: =(Sheet2!$H7*Sheet3!$C$5+Sheet2!$I7*Sheet3!$D$5+Sheet2!$J7*Sheet3!$E$5)/SUM(Sheet2!$H7:$J7) -> 0.23916667 | N7: =(K7+(1-L7))/2 -> 0.79541667
A8: 6 | B8: 7 | C8: Butler | D8: Alabama | E8: 1013 | F8: 32 | G8: -87 | H8: =Sheet1!B$3 -> 5 | I8: =Sheet1!C$3 -> 7 | J8: =Sheet1!D$3 -> 0 | K8: =(Sheet2!$H8*Sheet3!$C$3+Sheet2!$I8*Sheet3!$D$3+Sheet2!$J8*Sheet3!$E$3)/SUM(Sheet2!$H8:$J8) -> 0.76083333 | L8: =(Sheet2!$H8*Sheet3!$C$4+Sheet2!$I8*Sheet3!$D$4+Sheet2!$J8*Sheet3!$E$4)/SUM(Sheet2!$H8:$J8) -> 0.17 | M8: =(Sheet2!$H8*Sheet3!$C$5+Sheet2!$I8*Sheet3!$D$5+Sheet2!$J8*Sheet3!$E$5)/SUM(Sheet2!$H8:$J8) -> 0.23916667 | N8: =(K8+(1-L8))/2 -> 0.79541667
A9: 7 | B9: 8 | C9: Calhoun | D9: Alabama | E9: 1015 | F9: 34 | G9: -86 | H9: =Sheet1!B$3 -> 5 | I9: =Sheet1!C$3 -> 7 | J9: =Sheet1!D$3 -> 0 | K9: =(Sheet2!$H9*Sheet3!$C$3+Sheet2!$I9*Sheet3!$D$3+Sheet2!$J9*Sheet3!$E$3)/SUM(Sheet2!$H9:$J9) -> 0.76083333 | L9: =(Sheet2!$H9*Sheet3!$C$4+Sheet2!$I9*Sheet3!$D$4+Sheet2!$J9*Sheet3!$E$4)/SUM(Sheet2!$H9:$J9) -> 0.17 | M9: =(Sheet2!$H9*Sheet3!$C$5+Sheet2!$I9*Sheet3!$D$5+Sheet2!$J9*Sheet3!$E$5)/SUM(Sheet2!$H9:$J9) -> 0.23916667 | N9: =(K9+(1-L9))/2 -> 0.79541667
A10: 8 | B10: 9 | C10: Chambers | D10: Alabama | E10: 1017 | F10: 33 | G10: -85 | H10: =Sheet1!B$3 -> 5 | I10: =Sheet1!C$3 -> 7 | J10: =Sheet1!D$3 -> 0 | K10: =(Sheet2!$H10*Sheet3!$C$3+Sheet2!$I10*Sheet3!$D$3+Sheet2!$J10*Sheet3!$E$3)/SUM(Sheet2!$H10:$J10) -> 0.76083333 | L10: =(Sheet2!$H10*Sheet3!$C$4+Sheet2!$I10*Sheet3!$D$4+Sheet2!$J10*Sheet3!$E$4)/SUM(Sheet2!$H10:$J10) -> 0.17 | M10: =(Sheet2!$H10*Sheet3!$C$5+Sheet2!$I10*Sheet3!$D$5+Sheet2!$J10*Sheet3!$E$5)/SUM(Sheet2!$H10:$J10) -> 0.23916667 | N10: =(K10+(1-L10))/2 -> 0.79541667
A11: 9 | B11: 10 | C11: Cherokee | D11: Alabama | E11: 1019 | F11: 34 | G11: -86 | H11: =Sheet1!B$3 -> 5 | I11: =Sheet1!C$3 -> 7 | J11: =Sheet1!D$3 -> 0 | K11: =(Sheet2!$H11*Sheet3!$C$3+Sheet2!$I11*Sheet3!$D$3+Sheet2!$J11*Sheet3!$E$3)/SUM(Sheet2!$H11:$J11) -> 0.76083333 | L11: =(Sheet2!$H11*Sheet3!$C$4+Sheet2!$I11*Sheet3!$D$4+Sheet2!$J11*Sheet3!$E$4)/SUM(Sheet2!$H11:$J11) -> 0.17 | M11: =(Sheet2!$H11*Sheet3!$C$5+Sheet2!$I11*Sheet3!$D$5+Sheet2!$J11*Sheet3!$E$5)/SUM(Sheet2!$H11:$J11) -> 0.23916667 | N11: =(K11+(1-L11))/2 -> 0.79541667
A12: 10 | B12: 11 | C12: Chilton | D12: Alabama | E12: 1021 | F12: 33 | G12: -87 | H12: =Sheet1!B$3 -> 5 | I12: =Sheet1!C$3 -> 7 | J12: =Sheet1!D$3 -> 0 | K12: =(Sheet2!$H12*Sheet3!$C$3+Sheet2!$I12*Sheet3!$D$3+Sheet2!$J12*Sheet3!$E$3)/SUM(Sheet2!$H12:$J12) -> 0.76083333 | L12: =(Sheet2!$H12*Sheet3!$C$4+Sheet2!$I12*Sheet3!$D$4+Sheet2!$J12*Sheet3!$E$4)/SUM(Sheet2!$H12:$J12) -> 0.17 | M12: =(Sheet2!$H12*Sheet3!$C$5+Sheet2!$I12*Sheet3!$D$5+Sheet2!$J12*Sheet3!$E$5)/SUM(Sheet2!$H12:$J12) -> 0.23916667 | N12: =(K12+(1-L12))/2 -> 0.79541667
A13: 11 | B13: 12 | C13: Choctaw | D13: Alabama | E13: 1023 | F13: 32 | G13: -88 | H13: =Sheet1!B$3 -> 5 | I13: =Sheet1!C$3 -> 7 | J13: =Sheet1!D$3 -> 0 | K13: =(Sheet2!$H13*Sheet3!$C$3+Sheet2!$I13*Sheet3!$D$3+Sheet2!$J13*Sheet3!$E$3)/SUM(Sheet2!$H13:$J13) -> 0.76083333 | L13: =(Sheet2!$H13*Sheet3!$C$4+Sheet2!$I13*Sheet3!$D$4+Sheet2!$J13*Sheet3!$E$4)/SUM(Sheet2!$H13:$J13) -> 0.17 | M13: =(Sheet2!$H13*Sheet3!$C$5+Sheet2!$I13*Sheet3!$D$5+Sheet2!$J13*Sheet3!$E$5)/SUM(Sheet2!$H13:$J13) -> 0.23916667 | N13: =(K13+(1-L13))/2 -> 0.79541667
... A68: 66 | B68: 67 | C68: Winston | D68: Alabama | E68: 1133 | F68: 34 | G68: -87 | H68: =Sheet1!B$3 -> 5 | I68: =Sheet1!C$3 -> 7 | J68: =Sheet1!D$3 -> 0 | K68: =(Sheet2!$H68*Sheet3!$C$3+Sheet2!$I68*Sheet3!$D$3+Sheet2!$J68*Sheet3!$E$3)/SUM(Sheet2!$H68:$J68) -> 0.76083333 | L68: =(Sheet2!$H68*Sheet3!$C$4+Sheet2!$I68*Sheet3!$D$4+Sheet2!$J68*Sheet3!$E$4)/SUM(Sheet2!$H68:$J68) -> 0.17 | M68: =(Sheet2!$H68*Sheet3!$C$5+Sheet2!$I68*Sheet3!$D$5+Sheet2!$J68*Sheet3!$E$5)/SUM(Sheet2!$H68:$J68) -> 0.23916667 | N68: =(K68+(1-L68))/2 -> 0.79541667
A69: 67 | B69: 68 | C69: Aleutians East | D69: Alaska | E69: 2013 | F69: 55 | G69: -162 | H69: 1 | I69: 3 | J69: 8 | K69: =(Sheet2!$H69*Sheet3!$C$3+Sheet2!$I69*Sheet3!$D$3+Sheet2!$J69*Sheet3!$E$3)/SUM(Sheet2!$H69:$J69) -> 0.70416667 | L69: =(Sheet2!$H69*Sheet3!$C$4+Sheet2!$I69*Sheet3!$D$4+Sheet2!$J69*Sheet3!$E$4)/SUM(Sheet2!$H69:$J69) -> 0.17 | M69: =(Sheet2!$H69*Sheet3!$C$5+Sheet2!$I69*Sheet3!$D$5+Sheet2!$J69*Sheet3!$E$5)/SUM(Sheet2!$H69:$J69) -> 0.2825 | N69: =(K69+(1-L69))/2 -> 0.76708333
A70: 68 | B70: 69 | C70: Aleutians West | D70: Alaska | E70: 2016 | F70: 53 | G70: -171 | H70: 1 | I70: 3 | J70: 8 | K70: =(Sheet2!$H70*Sheet3!$C$3+Sheet2!$I70*Sheet3!$D$3+Sheet2!$J70*Sheet3!$E$3)/SUM(Sheet2!$H70:$J70) -> 0.70416667 | L70: =(Sheet2!$H70*Sheet3!$C$4+Sheet2!$I70*Sheet3!$D$4+Sheet2!$J70*Sheet3!$E$4)/SUM(Sheet2!$H70:$J70) -> 0.17 | M70: =(Sheet2!$H70*Sheet3!$C$5+Sheet2!$I70*Sheet3!$D$5+Sheet2!$J70*Sheet3!$E$5)/SUM(Sheet2!$H70:$J70) -> 0.2825 | N70: =(K70+(1-L70))/2 -> 0.76708333
A71: 69 | B71: 70 | C71: Anchorage | D71: Alaska | E71: 2020 | F71: 61 | G71: -149 | H71: 1 | I71: 3 | J71: 8 | K71: =(Sheet2!$H71*Sheet3!$C$3+Sheet2!$I71*Sheet3!$D$3+Sheet2!$J71*Sheet3!$E$3)/SUM(Sheet2!$H71:$J71) -> 0.70416667 | L71: =(Sheet2!$H71*Sheet3!$C$4+Sheet2!$I71*Sheet3!$D$4+Sheet2!$J71*Sheet3!$E$4)/SUM(Sheet2!$H71:$J71) -> 0.17 | M71: =(Sheet2!$H71*Sheet3!$C$5+Sheet2!$I71*Sheet3!$D$5+Sheet2!$J71*Sheet3!$E$5)/SUM(Sheet2!$H71:$J71) -> 0.2825 | N71: =(K71+(1-L71))/2 -> 0.76708333
A72: 70 | B72: 71 | C72: Bethel | D72: Alaska | E72: 2050 | F72: 61 | G72: -160 | H72: 1 | I72: 3 | J72: 8 | K72: =(Sheet2!$H72*Sheet3!$C$3+Sheet2!$I72*Sheet3!$D$3+Sheet2!$J72*Sheet3!$E$3)/SUM(Sheet2!$H72:$J72) -> 0.70416667 | L72: =(Sheet2!$H72*Sheet3!$C$4+Sheet2!$I72*Sheet3!$D$4+Sheet2!$J72*Sheet3!$E$4)/SUM(Sheet2!$H72:$J72) -> 0.17 | M72: =(Sheet2!$H72*Sheet3!$C$5+Sheet2!$I72*Sheet3!$D$5+Sheet2!$J72*Sheet3!$E$5)/SUM(Sheet2!$H72:$J72) -> 0.2825 | N72: =(K72+(1-L72))/2 -> 0.76708333
A73: 71 | B73: 72 | C73: Bristol Bay | D73: Alaska | E73: 2060 | F73: 59 | G73: -157 | H73: 1 | I73: 3 | J73: 8 | K73: =(Sheet2!$H73*Sheet3!$C$3+Sheet2!$I73*Sheet3!$D$3+Sheet2!$J73*Sheet3!$E$3)/SUM(Sheet2!$H73:$J73) -> 0.70416667 | L73: =(Sheet2!$H73*Sheet3!$C$4+Sheet2!$I73*Sheet3!$D$4+Sheet2!$J73*Sheet3!$E$4)/SUM(Sheet2!$H73:$J73) -> 0.17 | M73: =(Sheet2!$H73*Sheet3!$C$5+Sheet2!$I73*Sheet3!$D$5+Sheet2!$J73*Sheet3!$E$5)/SUM(Sheet2!$H73:$J73) -> 0.2825 | N73: =(K73+(1-L73))/2 -> 0.76708333
A74: 72 | B74: 73 | C74: Denali | D74: Alaska | E74: 2068 | F74: 64 | G74: -150 | H74: 1 | I74: 3 | J74: 8 | K74: =(Sheet2!$H74*Sheet3!$C$3+Sheet2!$I74*Sheet3!$D$3+Sheet2!$J74*Sheet3!$E$3)/SUM(Sheet2!$H74:$J74) -> 0.70416667 | L74: =(Sheet2!$H74*Sheet3!$C$4+Sheet2!$I74*Sheet3!$D$4+Sheet2!$J74*Sheet3!$E$4)/SUM(Sheet2!$H74:$J74) -> 0.17 | M74: =(Sheet2!$H74*Sheet3!$C$5+Sheet2!$I74*Sheet3!$D$5+Sheet2!$J74*Sheet3!$E$5)/SUM(Sheet2!$H74:$J74) -> 0.2825 | N74: =(K74+(1-L74))/2 -> 0.76708333
A75: 73 | B75: 74 | C75: Dillingham | D75: Alaska | E75: 2070 | F75: 60 | G75: -158 | H75: 1 | I75: 3 | J75: 8 | K75: =(Sheet2!$H75*Sheet3!$C$3+Sheet2!$I75*Sheet3!$D$3+Sheet2!$J75*Sheet3!$E$3)/SUM(Sheet2!$H75:$J75) -> 0.70416667 | L75: =(Sheet2!$H75*Sheet3!$C$4+Sheet2!$I75*Sheet3!$D$4+Sheet2!$J75*Sheet3!$E$4)/SUM(Sheet2!$H75:$J75) -> 0.17 | M75: =(Sheet2!$H75*Sheet3!$C$5+Sheet2!$I75*Sheet3!$D$5+Sheet2!$J75*Sheet3!$E$5)/SUM(Sheet2!$H75:$J75) -> 0.2825 | N75: =(K75+(1-L75))/2 -> 0.76708333
A76: 74 | B76: 75 | C76: Fairbanks North Star | D76: Alaska | E76: 2090 | F76: 65 | G76: -147 | H76: 1 | I76: 3 | J76: 8 | K76: =(Sheet2!$H76*Sheet3!$C$3+Sheet2!$I76*Sheet3!$D$3+Sheet2!$J76*Sheet3!$E$3)/SUM(Sheet2!$H76:$J76) -> 0.70416667 | L76: =(Sheet2!$H76*Sheet3!$C$4+Sheet2!$I76*Sheet3!$D$4+Sheet2!$J76*Sheet3!$E$4)/SUM(Sheet2!$H76:$J76) -> 0.17 | M76: =(Sheet2!$H76*Sheet3!$C$5+Sheet2!$I76*Sheet3!$D$5+Sheet2!$J76*Sheet3!$E$5)/SUM(Sheet2!$H76:$J76) -> 0.2825 | N76: =(K76+(1-L76))/2 -> 0.76708333
A77: 75 | B77: 76 | C77: Haines | D77: Alaska | E77: 2100 | F77: 59 | G77: -136 | H77: 2 | I77: 2 | J77: 8 | K77: =(Sheet2!$H77*Sheet3!$C$3+Sheet2!$I77*Sheet3!$D$3+Sheet2!$J77*Sheet3!$E$3)/SUM(Sheet2!$H77:$J77) -> 0.70833333 | L77: =(Sheet2!$H77*Sheet3!$C$4+Sheet2!$I77*Sheet3!$D$4+Sheet2!$J77*Sheet3!$E$4)/SUM(Sheet2!$H77:$J77) -> 0.17 | M77: =(Sheet2!$H77*Sheet3!$C$5+Sheet2!$I77*Sheet3!$D$5+Sheet2!$J77*Sheet3!$E$5)/SUM(Sheet2!$H77:$J77) -> 0.27833333 | N77: =(K77+(1-L77))/2 -> 0.76916667
A78: 76 | B78: 77 | C78: Juneau | D78: Alaska | E78: 2110 | F78: 58 | G78: -134 | H78: 2 | I78: 2 | J78: 8 | K78: =(Sheet2!$H78*Sheet3!$C$3+Sheet2!$I78*Sheet3!$D$3+Sheet2!$J78*Sheet3!$E$3)/SUM(Sheet2!$H78:$J78) -> 0.70833333 | L78: =(Sheet2!$H78*Sheet3!$C$4+Sheet2!$I78*Sheet3!$D$4+Sheet2!$J78*Sheet3!$E$4)/SUM(Sheet2!$H78:$J78) -> 0.17 | M78: =(Sheet2!$H78*Sheet3!$C$5+Sheet2!$I78*Sheet3!$D$5+Sheet2!$J78*Sheet3!$E$5)/SUM(Sheet2!$H78:$J78) -> 0.27833333 | N78: =(K78+(1-L78))/2 -> 0.76916667
A79: 77 | B79: 78 | C79: Kenai Peninsula | D79: Alaska | E79: 2122 | F79: 60 | G79: -152 | H79: 1 | I79: 3 | J79: 8 | K79: =(Sheet2!$H79*Sheet3!$C$3+Sheet2!$I79*Sheet3!$D$3+Sheet2!$J79*Sheet3!$E$3)/SUM(Sheet2!$H79:$J79) -> 0.70416667 | L79: =(Sheet2!$H79*Sheet3!$C$4+Sheet2!$I79*Sheet3!$D$4+Sheet2!$J79*Sheet3!$E$4)/SUM(Sheet2!$H79:$J79) -> 0.17 | M79: =(Sheet2!$H79*Sheet3!$C$5+Sheet2!$I79*Sheet3!$D$5+Sheet2!$J79*Sheet3!$E$5)/SUM(Sheet2!$H79:$J79) -> 0.2825 | N79: =(K79+(1-L79))/2 -> 0.76708333
A80: 78 | B80: 79 | C80: Ketchikan Gateway | D80: Alaska | E80: 2130 | F80: 56 | G80: -131 | H80: 2 | I80: 2 | J80: 8 | K80: =(Sheet2!$H80*Sheet3!$C$3+Sheet2!$I80*Sheet3!$D$3+Sheet2!$J80*Sheet3!$E$3)/SUM(Sheet2!$H80:$J80) -> 0.70833333 | L80: =(Sheet2!$H80*Sheet3!$C$4+Sheet2!$I80*Sheet3!$D$4+Sheet2!$J80*Sheet3!$E$4)/SUM(Sheet2!$H80:$J80) -> 0.17 | M80: =(Sheet2!$H80*Sheet3!$C$5+Sheet2!$I80*Sheet3!$D$5+Sheet2!$J80*Sheet3!$E$5)/SUM(Sheet2!$H80:$J80) -> 0.27833333 | N80: =(K80+(1-L80))/2 -> 0.76916667
... A95: 93 | B95: 94 | C95: Yukon-Koyukuk | D95: Alaska | E95: 2290 | F95: 66 | G95: -151 | H95: 1 | I95: 3 | J95: 8 | K95: =(Sheet2!$H95*Sheet3!$C$3+Sheet2!$I95*Sheet3!$D$3+Sheet2!$J95*Sheet3!$E$3)/SUM(Sheet2!$H95:$J95) -> 0.70416667 | L95: =(Sheet2!$H95*Sheet3!$C$4+Sheet2!$I95*Sheet3!$D$4+Sheet2!$J95*Sheet3!$E$4)/SUM(Sheet2!$H95:$J95) -> 0.17 | M95: =(Sheet2!$H95*Sheet3!$C$5+Sheet2!$I95*Sheet3!$D$5+Sheet2!$J95*Sheet3!$E$5)/SUM(Sheet2!$H95:$J95) -> 0.2825 | N95: =(K95+(1-L95))/2 -> 0.76708333
A96: 94 | B96: 95 | C96: Apache | D96: Arizona | E96: 4001 | F96: 35 | G96: -109 | H96: =IF($F96>34,Sheet1!B$6,Sheet1!B$7) -> 3 | I96: =IF($F96>34,Sheet1!C$6,Sheet1!C$7) -> 3 | J96: =IF($F96>34,Sheet1!D$6,Sheet1!D$7) -> 6 | K96: =(Sheet2!$H96*Sheet3!$C$3+Sheet2!$I96*Sheet3!$D$3+Sheet2!$J96*Sheet3!$E$3)/SUM(Sheet2!$H96:$J96) -> 0.7225 | L96: =(Sheet2!$H96*Sheet3!$C$4+Sheet2!$I96*Sheet3!$D$4+Sheet2!$J96*Sheet3!$E$4)/SUM(Sheet2!$H96:$J96) -> 0.17 | M96: =(Sheet2!$H96*Sheet3!$C$5+Sheet2!$I96*Sheet3!$D$5+Sheet2!$J96*Sheet3!$E$5)/SUM(Sheet2!$H96:$J96) -> 0.2675 | N96: =(K96+(1-L96))/2 -> 0.77625
A97: 95 | B97: 96 | C97: Cochise | D97: Arizona | E97: 4003 | F97: 32 | G97: -110 | H97: =IF($F97>34,Sheet1!B$6,Sheet1!B$7) -> 6 | I97: =IF($F97>34,Sheet1!C$6,Sheet1!C$7) -> 6 | J97: =IF($F97>34,Sheet1!D$6,Sheet1!D$7) -> 0 | K97: =(Sheet2!$H97*Sheet3!$C$3+Sheet2!$I97*Sheet3!$D$3+Sheet2!$J97*Sheet3!$E$3)/SUM(Sheet2!$H97:$J97) -> 0.765 | L97: =(Sheet2!$H97*Sheet3!$C$4+Sheet2!$I97*Sheet3!$D$4+Sheet2!$J97*Sheet3!$E$4)/SUM(Sheet2!$H97:$J97) -> 0.17 | M97: =(Sheet2!$H97*Sheet3!$C$5+Sheet2!$I97*Sheet3!$D$5+Sheet2!$J97*Sheet3!$E$5)/SUM(Sheet2!$H97:$J97) -> 0.235 | N97: =(K97+(1-L97))/2 -> 0.7975
A98: 96 | B98: 97 | C98: Coconino | D98: Arizona | E98: 4005 | F98: 36 | G98: -112 | H98: =IF($F98>34,Sheet1!B$6,Sheet1!B$7) -> 3 | I98: =IF($F98>34,Sheet1!C$6,Sheet1!C$7) -> 3 | J98: =IF($F98>34,Sheet1!D$6,Sheet1!D$7) -> 6 | K98: =(Sheet2!$H98*Sheet3!$C$3+Sheet2!$I98*Sheet3!$D$3+Sheet2!$J98*Sheet3!$E$3)/SUM(Sheet2!$H98:$J98) -> 0.7225 | L98: =(Sheet2!$H98*Sheet3!$C$4+Sheet2!$I98*Sheet3!$D$4+Sheet2!$J98*Sheet3!$E$4)/SUM(Sheet2!$H98:$J98) -> 0.17 | M98: =(Sheet2!$H98*Sheet3!$C$5+Sheet2!$I98*Sheet3!$D$5+Sheet2!$J98*Sheet3!$E$5)/SUM(Sheet2!$H98:$J98) -> 0.2675 | N98: =(K98+(1-L98))/2 -> 0.77625
A99: 97 | B99: 98 | C99: Gila | D99: Arizona | E99: 4007 | F99: 34 | G99: -111 | H99: =IF($F99>34,Sheet1!B$6,Sheet1!B$7) -> 6 | I99: =IF($F99>34,Sheet1!C$6,Sheet1!C$7) -> 6 | J99: =IF($F99>34,Sheet1!D$6,Sheet1!D$7) -> 0 | K99: =(Sheet2!$H99*Sheet3!$C$3+Sheet2!$I99*Sheet3!$D$3+Sheet2!$J99*Sheet3!$E$3)/SUM(Sheet2!$H99:$J99) -> 0.765 | L99: =(Sheet2!$H99*Sheet3!$C$4+Sheet2!$I99*Sheet3!$D$4+Sheet2!$J99*Sheet3!$E$4)/SUM(Sheet2!$H99:$J99) -> 0.17 | M99: =(Sheet2!$H99*Sheet3!$C$5+Sheet2!$I99*Sheet3!$D$5+Sheet2!$J99*Sheet3!$E$5)/SUM(Sheet2!$H99:$J99) -> 0.235 | N99: =(K99+(1-L99))/2 -> 0.7975
A100: 98 | B100: 99 | C100: Graham | D100: Arizona | E100: 4009 | F100: 33 | G100: -110 | H100: =IF($F100>34,Sheet1!B$6,Sheet1!B$7) -> 6 | I100: =IF($F100>34,Sheet1!C$6,Sheet1!C$7) -> 6 | J100: =IF($F100>34,Sheet1!D$6,Sheet1!D$7) -> 0 | K100: =(Sheet2!$H100*Sheet3!$C$3+Sheet2!$I100*Sheet3!$D$3+Sheet2!$J100*Sheet3!$E$3)/SUM(Sheet2!$H100:$J100) -> 0.765 | L100: =(Sheet2!$H100*Sheet3!$C$4+Sheet2!$I100*Sheet3!$D$4+Sheet2!$J100*Sheet3!$E$4)/SUM(Sheet2!$H100:$J100) -> 0.17 | M100: =(Sheet2!$H100*Sheet3!$C$5+Sheet2!$I100*Sheet3!$D$5+Sheet2!$J100*Sheet3!$E$5)/SUM(Sheet2!$H100:$J100) -> 0.235 | N100: =(K100+(1-L100))/2 -> 0.7975
A101: 99 | B101: 100 | C101: Greenlee | D101: Arizona | E101: 4011 | F101: 33 | G101: -109 | H101: =IF($F101>34,Sheet1!B$6,Sheet1!B$7) -> 6 | I101: =IF($F101>34,Sheet1!C$6,Sheet1!C$7) -> 6 | J101: =IF($F101>34,Sheet1!D$6,Sheet1!D$7) -> 0 | K101: =(Sheet2!$H101*Sheet3!$C$3+Sheet2!$I101*Sheet3!$D$3+Sheet2!$J101*Sheet3!$E$3)/SUM(Sheet2!$H101:$J101) -> 0.765 | L101: =(Sheet2!$H101*Sheet3!$C$4+Sheet2!$I101*Sheet3!$D$4+Sheet2!$J101*Sheet3!$E$4)/SUM(Sheet2!$H101:$J101) -> 0.17 | M101: =(Sheet2!$H101*Sheet3!$C$5+Sheet2!$I101*Sheet3!$D$5+Sheet2!$J101*Sheet3!$E$5)/SUM(Sheet2!$H101:$J101) -> 0.235 | N101: =(K101+(1-L101))/2 -> 0.7975
A102: 100 | B102: 101 | C102: La Paz | D102: Arizona | E102: 4012 | F102: 34 | G102: -114 | H102: =IF($F102>34,Sheet1!B$6,Sheet1!B$7) -> 6 | I102: =IF($F102>34,Sheet1!C$6,Sheet1!C$7) -> 6 | J102: =IF($F102>34,Sheet1!D$6,Sheet1!D$7) -> 0 | K102: =(Sheet2!$H102*Sheet3!$C$3+Sheet2!$I102*Sheet3!$D$3+Sheet2!$J102*Sheet3!$E$3)/SUM(Sheet2!$H102:$J102) -> 0.765 | L102: =(Sheet2!$H102*Sheet3!$C$4+Sheet2!$I102*Sheet3!$D$4+Sheet2!$J102*Sheet3!$E$4)/SUM(Sheet2!$H102:$J102) -> 0.17 | M102: =(Sheet2!$H102*Sheet3!$C$5+Sheet2!$I102*Sheet3!$D$5+Sheet2!$J102*Sheet3!$E$5)/SUM(Sheet2!$H102:$J102) -> 0.235 | N102: =(K102+(1-L102))/2 -> 0.7975
A103: 101 | B103: 102 | C103: Maricopa | D103: Arizona | E103: 4013 | F103: 33 | G103: -112 | H103: =IF($F103>34,Sheet1!B$6,Sheet1!B$7) -> 6 | I103: =IF($F103>34,Sheet1!C$6,Sheet1!C$7) -> 6 | J103: =IF($F103>34,Sheet1!D$6,Sheet1!D$7) -> 0 | K103: =(Sheet2!$H103*Sheet3!$C$3+Sheet2!$I103*Sheet3!$D$3+Sheet2!$J103*Sheet3!$E$3)/SUM(Sheet2!$H103:$J103) -> 0.765 | L103: =(Sheet2!$H103*Sheet3!$C$4+Sheet2!$I103*Sheet3!$D$4+Sheet2!$J103*Sheet3!$E$4)/SUM(Sheet2!$H103:$J103) -> 0.17 | M103: =(Sheet2!$H103*Sheet3!$C$5+Sheet2!$I103*Sheet3!$D$5+Sheet2!$J103*Sheet3!$E$5)/SUM(Sheet2!$H103:$J103) -> 0.235 | N103: =(K103+(1-L103))/2 -> 0.7975
A104: 102 | B104: 103 | C104: Mohave | D104: Arizona | E104: 4015 | F104: 36 | G104: -114 | H104: =IF($F104>34,Sheet1!B$6,Sheet1!B$7) -> 3 | I104: =IF($F104>34,Sheet1!C$6,Sheet1!C$7) -> 3 | J104: =IF($F104>34,Sheet1!D$6,Sheet1!D$7) -> 6 | K104: =(Sheet2!$H104*Sheet3!$C$3+Sheet2!$I104*Sheet3!$D$3+Sheet2!$J104*Sheet3!$E$3)/SUM(Sheet2!$H104:$J104) -> 0.7225 | L104: =(Sheet2!$H104*Sheet3!$C$4+Sheet2!$I104*Sheet3!$D$4+Sheet2!$J104*Sheet3!$E$4)/SUM(Sheet2!$H104:$J104) -> 0.17 | M104: =(Sheet2!$H104*Sheet3!$C$5+Sheet2!$I104*Sheet3!$D$5+Sheet2!$J104*Sheet3!$E$5)/SUM(Sheet2!$H104:$J104) -> 0.2675 | N104: =(K104+(1-L104))/2 -> 0.77625
A105: 103 | B105: 104 | C105: Navajo | D105: Arizona | E105: 4017 | F105: 35 | G105: -110 | H105: =IF($F105>34,Sheet1!B$6,Sheet1!B$7) -> 3 | I105: =IF($F105>34,Sheet1!C$6,Sheet1!C$7) -> 3 | J105: =IF($F105>34,Sheet1!D$6,Sheet1!D$7) -> 6 | K105: =(Sheet2!$H105*Sheet3!$C$3+Sheet2!$I105*Sheet3!$D$3+Sheet2!$J105*Sheet3!$E$3)/SUM(Sheet2!$H105:$J105) -> 0.7225 | L105: =(Sheet2!$H105*Sheet3!$C$4+Sheet2!$I105*Sheet3!$D$4+Sheet2!$J105*Sheet3!$E$4)/SUM(Sheet2!$H105:$J105) -> 0.17 | M105: =(Sheet2!$H105*Sheet3!$C$5+Sheet2!$I105*Sheet3!$D$5+Sheet2!$J105*Sheet3!$E$5)/SUM(Sheet2!$H105:$J105) -> 0.2675 | N105: =(K105+(1-L105))/2 -> 0.77625
A106: 104 | B106: 105 | C106: Pima | D106: Arizona | E106: 4019 | F106: 32 | G106: -112 | H106: =IF($F106>34,Sheet1!B$6,Sheet1!B$7) -> 6 | I106: =IF($F106>34,Sheet1!C$6,Sheet1!C$7) -> 6 | J106: =IF($F106>34,Sheet1!D$6,Sheet1!D$7) -> 0 | K106: =(Sheet2!$H106*Sheet3!$C$3+Sheet2!$I106*Sheet3!$D$3+Sheet2!$J106*Sheet3!$E$3)/SUM(Sheet2!$H106:$J106) -> 0.765 | L106: =(Sheet2!$H106*Sheet3!$C$4+Sheet2!$I106*Sheet3!$D$4+Sheet2!$J106*Sheet3!$E$4)/SUM(Sheet2!$H106:$J106) -> 0.17 | M106: =(Sheet2!$H106*Sheet3!$C$5+Sheet2!$I106*Sheet3!$D$5+Sheet2!$J106*Sheet3!$E$5)/SUM(Sheet2!$H106:$J106) -> 0.235 | N106: =(K106+(1-L106))/2 -> 0.7975
A107: 105 | B107: 106 | C107: Pinal | D107: Arizona | E107: 4021 | F107: 33 | G107: -111 | H107: =IF($F107>34,Sheet1!B$6,Sheet1!B$7) -> 6 | I107: =IF($F107>34,Sheet1!C$6,Sheet1!C$7) -> 6 | J107: =IF($F107>34,Sheet1!D$6,Sheet1!D$7) -> 0 | K107: =(Sheet2!$H107*Sheet3!$C$3+Sheet2!$I107*Sheet3!$D$3+Sheet2!$J107*Sheet3!$E$3)/SUM(Sheet2!$H107:$J107) -> 0.765 | L107: =(Sheet2!$H107*Sheet3!$C$4+Sheet2!$I107*Sheet3!$D$4+Sheet2!$J107*Sheet3!$E$4)/SUM(Sheet2!$H107:$J107) -> 0.17 | M107: =(Sheet2!$H107*Sheet3!$C$5+Sheet2!$I107*Sheet3!$D$5+Sheet2!$J107*Sheet3!$E$5)/SUM(Sheet2!$H107:$J107) -> 0.235 | N107: =(K107+(1-L107))/2 -> 0.7975
... A110: 108 | B110: 109 | C110: Yuma | D110: Arizona | E110: 4027 | F110: 33 | G110: -114 | H110: =IF($F110>34,Sheet1!B$6,Sheet1!B$7) -> 6 | I110: =IF($F110>34,Sheet1!C$6,Sheet1!C$7) -> 6 | J110: =IF($F110>34,Sheet1!D$6,Sheet1!D$7) -> 0 | K110: =(Sheet2!$H110*Sheet3!$C$3+Sheet2!$I110*Sheet3!$D$3+Sheet2!$J110*Sheet3!$E$3)/SUM(Sheet2!$H110:$J110) -> 0.765 | L110: =(Sheet2!$H110*Sheet3!$C$4+Sheet2!$I110*Sheet3!$D$4+Sheet2!$J110*Sheet3!$E$4)/SUM(Sheet2!$H110:$J110) -> 0.17 | M110: =(Sheet2!$H110*Sheet3!$C$5+Sheet2!$I110*Sheet3!$D$5+Sheet2!$J110*Sheet3!$E$5)/SUM(Sheet2!$H110:$J110) -> 0.235 | N110: =(K110+(1-L110))/2 -> 0.7975
...

Sheet Sheet3
C1: Volatility class
C2: 1 | D2: 2 | E2: 3
B3: Minimum EtOH volume (%) | C3: 0.79 | D3: 0.74 | E3: 0.68
B4: Min Hydrocarbons (%) | C4: 0.17 | D4: 0.17 | E4: 0.17
B5: Max Hydrocarbons (%) | C5: 0.21 | D5: 0.26 | E5: 0.3
