Workbook

Sheet Sheet1
A1: # months per year requiring each volatility class
A2: volatility class -> | B2: 1 | C2: 2 | D2: 3
A3: AL | B3: 5 | C3: 7 | D3: 0
A4: AK - southern region | B4: 2 | C4: 2 | D4: 8
A5: AK - south mainland | B5: 1 | C5: 3 | D5: 8
A6: AZ - north of 34 degrees | B6: 3 | C6: 3 | D6: 6
A7: AZ - south of 34 degrees | B7: 6 | C7: 6 | D7: 0
A8: AR | B8: 5 | C8: 3 | D8: 4
A9: CA - north coast | B9: 4 | C9: 8 | D9: 0
A10: CA - south coast | B10: 5 | C10: 7 | D10: 0
A11: CA - southeast | B11: 4 | C11: 5 | D11: 3
A12: CA - interior | B12: 4 | C12: 8 | D12: 0
A13: CO - east of 105 long | B13: 3 | C13: 3 | D13: 6
... A69: WY | B69: 1 | C69: 4 | D69: 7

Sheet Sheet2
A1: FID | B1: OBJECTID | C1: NAME | D1: STATE_NAME | E1: FIPS | F1: Latitude | G1: Longitude | H1: Months/yr in volatility class 1 | I1: Months/yr in volatility class 2 | J1: Months/yr in volatility class 3 | K1: Min EtOH content (%) | L1: Min Hydrocarbons (%) | M1: Max Hydrocarbons (%) | N1: Avg EtOH content (%)
A2: 0 | B2: 1 | C2: Autauga | D2: Alabama | E2: 1001 | F2: 33 | G2: -87 | H2: =Sheet1!B$3 -> 5 | I2: =Sheet1!C$3 -> 7 | J2: =Sheet1!D$3 -> 0 | K2: =(Sheet2!$H2*Sheet3!$C$3+Sheet2!$I2*Sheet3!$D$3+Sheet2!$J2*Sheet3!$E$3)/SUM(Sheet2!$H2:$J2) -> 0.76083333 | L2: =(Sheet2!$H2*Sheet3!$C$4+Sheet2!$I2*Sheet3!$D$4+Sheet2!$J2*Sheet3!$E$4)/SUM(Sheet2!$H2:$J2) -> 0.17 | M2: =(Sheet2!$H2*Sheet3!$C$5+Sheet2!$I2*Sheet3!$D$5+Sheet2!$J2*Sheet3!$E$5)/SUM(Sheet2!$H2:$J2) -> 0.23916667 | N2: =(K2+(1-L2))/2 -> 0.79541667
A3: 1 | B3: 2 | C3: Baldwin | D3: Alabama | E3: 1003 | F3: 31 | G3: -88 | H3: =Sheet1!B$3 -> 5 | I3: =Sheet1!C$3 -> 7 | J3: =Sheet1!D$3 -> 0 | K3: =(Sheet2!$H3*Sheet3!$C$3+Sheet2!$I3*Sheet3!$D$3+Sheet2!$J3*Sheet3!$E$3)/SUM(Sheet2!$H3:$J3) -> 0.76083333 | L3: =(Sheet2!$H3*Sheet3!$C$4+Sheet2!$I3*Sheet3!$D$4+Sheet2!$J3*Sheet3!$E$4)/SUM(Sheet2!$H3:$J3) -> 0.17 | M3: =(Sheet2!$H3*Sheet3!$C$5+Sheet2!$I3*Sheet3!$D$5+Sheet2!$J3*Sheet3!$E$5)/SUM(Sheet2!$H3:$J3) -> 0.23916667 | N3: =(K3+(1-L3))/2 -> 0.79541667
A4: 2 | B4: 3 | C4: Barbour | D4: Alabama | E4: 1005 | F4: 32 | G4: -85 | H4: =Sheet1!B$3 -> 5 | I4: =Sheet1!C$3 -> 7 | J4: =Sheet1!D$3 -> 0 | K4: =(Sheet2!$H4*Sheet3!$C$3+Sheet2!$I4*Sheet3!$D$3+Sheet2!$J4*Sheet3!$E$3)/SUM(Sheet2!$H4:$J4) -> 0.76083333 | L4: =(Sheet2!$H4*Sheet3!$C$4+Sheet2!$I4*Sheet3!$D$4+Sheet2!$J4*Sheet3!$E$4)/SUM(Sheet2!$H4:$J4) -> 0.17 | M4: =(Sheet2!$H4*Sheet3!$C$5+Sheet2!$I4*Sheet3!$D$5+Sheet2!$J4*Sheet3!$E$5)/SUM(Sheet2!$H4:$J4) -> 0.23916667 | N4: =(K4+(1-L4))/2 -> 0.79541667
A5: 3 | B5: 4 | C5: Bibb | D5: Alabama | E5: 1007 | F5: 33 | G5: -87 | H5: =Sheet1!B$3 -> 5 | I5: =Sheet1!C$3 -> 7 | J5: =Sheet1!D$3 -> 0 | K5: =(Sheet2!$H5*Sheet3!$C$3+Sheet2!$I5*Sheet3!$D$3+Sheet2!$J5*Sheet3!$E$3)/SUM(Sheet2!$H5:$J5) -> 0.76083333 | L5: =(Sheet2!$H5*Sheet3!$C$4+Sheet2!$I5*Sheet3!$D$4+Sheet2!$J5*Sheet3!$E$4)/SUM(Sheet2!$H5:$J5) -> 0.17 | M5: =(Sheet2!$H5*Sheet3!$C$5+Sheet2!$I5*Sheet3!$D$5+Sheet2!$J5*Sheet3!$E$5)/SUM(Sheet2!$H5:$J5) -> 0.23916667 | N5: =(K5+(1-L5))/2 -> 0.79541667
A6: 4 | B6: 5 | C6: Blount | D6: Alabama | E6: 1009 | F6: 34 | G6: -87 | H6: =Sheet1!B$3 -> 5 | I6: =Sheet1!C$3 -> 7 | J6: =Sheet1!D$3 -> 0 | K6: =(Sheet2!$H6*Sheet3!$C$3+Sheet2!$I6*Sheet3!$D$3+Sheet2!$J6*Sheet3!$E$3)/SUM(Sheet2!$H6:$J6) -> 0.76083333 | L6: =(Sheet2!$H6*Sheet3!$C$4+Sheet2!$I6*Sheet3!$D$4+Sheet2!$J6*Sheet3!$E$4)/SUM(Sheet2!$H6:$J6) -> 0.17 | M6: =(Sheet2!$H6*Sheet3!$C$5+Sheet2!$I6*Sheet3!$D$5+Sheet2!$J6*Sheet3!$E$5)/SUM(Sheet2!$H6:$J6) -> 0.23916667 | N6: =(K6+(1-L6))/2 -> 0.79541667
A7: 5 | B7: 6 | C7: Bullock | D7: Alabama | E7: 1011 | F7: 32 | G7: -86 | H7: =Sheet1!B$3 -> 5 | I7: =Sheet1!C$3 -> 7 | J7: =Sheet1!D$3 -> 0 | K7: =(Sheet2!$H7*Sheet3!$C$3+Sheet2!$I7*Sheet3!$D$3+Sheet2!$J7*Sheet3!$E$3)/SUM(Sheet2!$H7:$J7) -> 0.76083333 | L7: =(Sheet2!$H7*Sheet3!$C$4+Sheet2!$I7*Sheet3!$D$4+Sheet2!$J7*Sheet3!$E$4)/SUM(Sheet2!$H7:$J7) -> 0.17 | M7: =(Sheet2!$H7*Sheet3!$C$5+Sheet2!$I7*Sheet3!$D$5+Sheet2!$J7*Sheet3!$E$5)/SUM(Sheet2!$H7:$J7) -> 0.23916667 | N7: =(K7+(1-L7))/2 -> 0.79541667
A8: 6 | B8: 7 | C8: Butler | D8: Alabama | E8: 1013 | F8: 32 | G8: -87 | H8: =Sheet1!B$3 -> 5 | I8: =Sheet1!C$3 -> 7 | J8: =Sheet1!D$3 -> 0 | K8: =(Sheet2!$H8*Sheet3!$C$3+Sheet2!$I8*Sheet3!$D$3+Sheet2!$J8*Sheet3!$E$3)/SUM(Sheet2!$H8:$J8) -> 0.76083333 | L8: =(Sheet2!$H8*Sheet3!$C$4+Sheet2!$I8*Sheet3!$D$4+Sheet2!$J8*Sheet3!$E$4)/SUM(Sheet2!$H8:$J8) -> 0.17 | M8: =(Sheet2!$H8*Sheet3!$C$5+Sheet2!$I8*Sheet3!$D$5+Sheet2!$J8*Sheet3!$E$5)/SUM(Sheet2!$H8:$J8) -> 0.23916667 | N8: =(K8+(1-L8))/2 -> 0.79541667
A9: 7 | B9: 8 | C9: Calhoun | D9: Alabama | E9: 1015 | F9: 34 | G9: -86 | H9: =Sheet1!B$3 -> 5 | I9: =Sheet1!C$3 -> 7 | J9: =Sheet1!D$3 -> 0 | K9: =(Sheet2!$H9*Sheet3!$C$3+Sheet2!$I9*Sheet3!$D$3+Sheet2!$J9*Sheet3!$E$3)/SUM(Sheet2!$H9:$J9) -> 0.76083333 | L9: =(Sheet2!$H9*Sheet3!$C$4+Sheet2!$I9*Sheet3!$D$4+Sheet2!$J9*Sheet3!$E$4)/SUM(Sheet2!$H9:$J9) -> 0.17 | M9: =(Sheet2!$H9*Sheet3!$C$5+Sheet2!$I9*Sheet3!$D$5+Sheet2!$J9*Sheet3!$E$5)/SUM(Sheet2!$H9:$J9) -> 0.23916667 | N9: =(K9+(1-L9))/2 -> 0.79541667
A10: 8 | B10: 9 | C10: Chambers | D10: Alabama | E10: 1017 | F10: 33 | G10: -85 | H10: =Sheet1!B$3 -> 5 | I10: =Sheet1!C$3 -> 7 | J10: =Sheet1!D$3 -> 0 | K10: =(Sheet2!$H10*Sheet3!$C$3+Sheet2!$I10*Sheet3!$D$3+Sheet2!$J10*Sheet3!$E$3)/SUM(Sheet2!$H10:$J10) -> 0.76083333 | L10: =(Sheet2!$H10*Sheet3!$C$4+Sheet2!$I10*Sheet3!$D$4+Sheet2!$J10*Sheet3!$E$4)/SUM(Sheet2!$H10:$J10) -> 0.17 | M10: =(Sheet2!$H10*Sheet3!$C$5+Sheet2!$I10*Sheet3!$D$5+Sheet2!$J10*Sheet3!$E$5)/SUM(Sheet2!$H10:$J10) -> 0.23916667 | N10: =(K10+(1-L10))/2 -> 0.79541667
A11: 9 | B11: 10 | C11: Cherokee | D11: Alabama | E11: 1019 | F11: 34 | G11: -86 | H11: =Sheet1!B$3 -> 5 | I11: =Sheet1!C$3 -> 7 | J11: =Sheet1!D$3 -> 0 | K11: =(Sheet2!$H11*Sheet3!$C$3+Sheet2!$I11*Sheet3!$D$3+Sheet2!$J11*Sheet3!$E$3)/SUM(Sheet2!$H11:$J11) -> 0.76083333 | L11: =(Sheet2!$H11*Sheet3!$C$4+Sheet2!$I11*Sheet3!$D$4+Sheet2!$J11*Sheet3!$E$4)/SUM(Sheet2!$H11:$J11) -> 0.17 | M11: =(Sheet2!$H11*Sheet3!$C$5+Sheet2!$I11*Sheet3!$D$5+Sheet2!$J11*Sheet3!$E$5)/SUM(Sheet2!$H11:$J11) -> 0.23916667 | N11: =(K11+(1-L11))/2 -> 0.79541667
A12: 10 | B12: 11 | C12: Chilton | D12: Alabama | E12: 1021 | F12: 33 | G12: -87 | H12: =Sheet1!B$3 -> 5 | I12: =Sheet1!C$3 -> 7 | J12: =Sheet1!D$3 -> 0 | K12: =(Sheet2!$H12*Sheet3!$C$3+Sheet2!$I12*Sheet3!$D$3+Sheet2!$J12*Sheet3!$E$3)/SUM(Sheet2!$H12:$J12) -> 0.76083333 | L12: =(Sheet2!$H12*Sheet3!$C$4+Sheet2!$I12*Sheet3!$D$4+Sheet2!$J12*Sheet3!$E$4)/SUM(Sheet2!$H12:$J12) -> 0.17 | M12: =(Sheet2!$H12*Sheet3!$C$5+Sheet2!$I12*Sheet3!$D$5+Sheet2!$J12*Sheet3!$E$5)/SUM(Sheet2!$H12:$J12) -> 0.23916667 | N12: =(K12+(1-L12))/2 -> 0.79541667
A13: 11 | B13: 12 | C13: Choctaw | D13: Alabama | E13: 1023 | F13: 32 | G13: -88 | H13: =Sheet1!B$3 -> 5 | I13: =Sheet1!C$3 -> 7 | J13: =Sheet1!D$3 -> 0 | K13: =(Sheet2!$H13*Sheet3!$C$3+Sheet2!$I13*Sheet3!$D$3+Sheet2!$J13*Sheet3!$E$3)/SUM(Sheet2!$H13:$J13) -> 0.76083333 | L13: =(Sheet2!$H13*Sheet3!$C$4+Sheet2!$I13*Sheet3!$D$4+Sheet2!$J13*Sheet3!$E$4)/SUM(Sheet2!$H13:$J13) -> 0.17 | M13: =(Sheet2!$H13*Sheet3!$C$5+Sheet2!$I13*Sheet3!$D$5+Sheet2!$J13*Sheet3!$E$5)/SUM(Sheet2!$H13:$J13) -> 0.23916667 | N13: =(K13+(1-L13))/2 -> 0.79541667
... A68: 66 | B68: 67 | C68: Winston | D68: Alabama | E68: 1133 | F68: 34 | G68: -87 | H68: =Sheet1!B$3 -> 5 | I68: =Sheet1!C$3 -> 7 | J68: =Sheet1!D$3 -> 0 | K68: =(Sheet2!$H68*Sheet3!$C$3+Sheet2!$I68*Sheet3!$D$3+Sheet2!$J68*Sheet3!$E$3)/SUM(Sheet2!$H68:$J68) -> 0.76083333 | L68: =(Sheet2!$H68*Sheet3!$C$4+Sheet2!$I68*Sheet3!$D$4+Sheet2!$J68*Sheet3!$E$4)/SUM(Sheet2!$H68:$J68) -> 0.17 | M68: =(Sheet2!$H68*Sheet3!$C$5+Sheet2!$I68*Sheet3!$D$5+Sheet2!$J68*Sheet3!$E$5)/SUM(Sheet2!$H68:$J68) -> 0.23916667 | N68: =(K68+(1-L68))/2 -> 0.79541667
A69: 67 | B69: 68 | C69: Aleutians East | D69: Alaska | E69: 2013 | F69: 55 | G69: -162 | H69: 1 | I69: 3 | J69: 8 | K69: =(Sheet2!$H69*Sheet3!$C$3+Sheet2!$I69*Sheet3!$D$3+Sheet2!$J69*Sheet3!$E$3)/SUM(Sheet2!$H69:$J69) -> 0.70416667 | L69: =(Sheet2!$H69*Sheet3!$C$4+Sheet2!$I69*Sheet3!$D$4+Sheet2!$J69*Sheet3!$E$4)/SUM(Sheet2!$H69:$J69) -> 0.17 | M69: =(Sheet2!$H69*Sheet3!$C$5+Sheet2!$I69*Sheet3!$D$5+Sheet2!$J69*Sheet3!$E$5)/SUM(Sheet2!$H69:$J69) -> 0.2825 | N69: =(K69+(1-L69))/2 -> 0.76708333
A70: 68 | B70: 69 | C70: Aleutians West | D70: Alaska | E70: 2016 | F70: 53 | G70: -171 | H70: 1 | I70: 3 | J70: 8 | K70: =(Sheet2!$H70*Sheet3!$C$3+Sheet2!$I70*Sheet3!$D$3+Sheet2!$J70*Sheet3!$E$3)/SUM(Sheet2!$H70:$J70) -> 0.70416667 | L70: =(Sheet2!$H70*Sheet3!$C$4+Sheet2!$I70*Sheet3!$D$4+Sheet2!$J70*Sheet3!$E$4)/SUM(Sheet2!$H70:$J70) -> 0.17 | M70: =(Sheet2!$H70*Sheet3!$C$5+Sheet2!$I70*Sheet3!$D$5+Sheet2!$J70*Sheet3!$E$5)/SUM(Sheet2!$H70:$J70) -> 0.2825 | N70: =(K70+(1-L70))/2 -> 0.76708333
A71: 69 | B71: 70 | C71: Anchorage | D71: Alaska | E71: 2020 | F71: 61 | G71: -149 | H71: 1 | I71: 3 | J71: 8 | K71: =(Sheet2!$H71*Sheet3!$C$3+Sheet2!$I71*Sheet3!$D$3+Sheet2!$J71*Sheet3!$E$3)/SUM(Sheet2!$H71:$J71) -> 0.70416667 | L71: =(Sheet2!$H71*Sheet3!$C$4+Sheet2!$I71*Sheet3!$D$4+Sheet2!$J71*Sheet3!$E$4)/SUM(Sheet2!$H71:$J71) -> 0.17 | M71: =(Sheet2!$H71*Sheet3!$C$5+Sheet2!$I71*Sheet3!$D$5+Sheet2!$J71*Sheet3!$E$5)/SUM(Sheet2!$H71:$J71) -> 0.2825 | N71: =(K71+(1-L71))/2 -> 0.76708333
A72: 70 | B72: 71 | C72: Bethel | D72: Alaska | E72: 2050 | F72: 61 | G72: -160 | H72: 1 | I72: 3 | J72: 8 | K72: =(Sheet2!$H72*Sheet3!$C$3+Sheet2!$I72*Sheet3!$D$3+Sheet2!$J72*Sheet3!$E$3)/SUM(Sheet2!$H72:$J72) -> 0.70416667 | L72: =(Sheet2!$H72*Sheet3!$C$4+Sheet2!$I72*Sheet3!$D$4+Sheet2!$J72*Sheet3!$E$4)/SUM(Sheet2!$H72:$J72) -> 0.17 | M72: =(Sheet2!$H72*Sheet3!$C$5+Sheet2!$I72*Sheet3!$D$5+Sheet2!$J72*Sheet3!$E$5)/SUM(Sheet2!$H72:$J72) -> 0.2825 | N72: =(K72+(1-L72))/2 -> 0.76708333
A73: 71 | B73: 72 | C73: Bristol Bay | D73: Alaska | E73: 2060 | F73: 59 | G73: -157 | H73: 1 | I73: 3 | J73: 8 | K73: =(Sheet2!$H73*Sheet3!$C$3+Sheet2!$I73*Sheet3!$D$3+Sheet2!$J73*Sheet3!$E$3)/SUM(Sheet2!$H73:$J73) -> 0.70416667 | L73: =(Sheet2!$H73*Sheet3!$C$4+Sheet2!$I73*Sheet3!$D$4+Sheet2!$J73*Sheet3!$E$4)/SUM(Sheet2!$H73:$J73) -> 0.17 | M73: =(Sheet2!$H73*Sheet3!$C$5+Sheet2!$I73*Sheet3!$D$5+Sheet2!$J73*Sheet3!$E$5)/SUM(Sheet2!$H73:$J73) -> 0.2825 | N73: =(K73+(1-L73))/2 -> 0.76708333
A74: 72 | B74: 73 | C74: Denali | D74: Alaska | E74: 2068 | F74: 64 | G74: -150 | H74: 1 | I74: 3 | J74: 8 | K74: =(Sheet2!$H74*Sheet3!$C$3+Sheet2!$I74*Sheet3!$D$3+Sheet2!$J74*Sheet3!$E$3)/SUM(Sheet2!$H74:$J74) -> 0.70416667 | L74: =(Sheet2!$H74*Sheet3!$C$4+Sheet2!$I74*Sheet3!$D$4+Sheet2!$J74*Sheet3!$E$4)/SUM(Sheet2!$H74:$J74) -> 0.17 | M74: =(Sheet2!$H74*Sheet3!$C$5+Sheet2!$I74*Sheet3!$D$5+Sheet2!$J74*Sheet3!$E$5)/SUM(Sheet2!$H74:$J74) -> 0.2825 | N74: =(K74+(1-L74))/2 -> 0.76708333
A75: 73 | B75: 74 | C75: Dillingham | D75: Alaska | E75: 2070 | F75: 60 | G75: -158 | H75: 1 | I75: 3 | J75: 8 | K75: =(Sheet2!$H75*Sheet3!$C$3+Sheet2!$I75*Sheet3!$D$3+Sheet2!$J75*Sheet3!$E$3)/SUM(Sheet2!$H75:$J75) -> 0.70416667 | L75: =(Sheet2!$H75*Sheet3!$C$4+Sheet2!$I75*Sheet3!$D$4+Sheet2!$J75*Sheet3!$E$4)/SUM(Sheet2!$H75:$J75) -> 0.17 | M75: =(Sheet2!$H75*Sheet3!$C$5+Sheet2!$I75*Sheet3!$D$5+Sheet2!$J75*Sheet3!$E$5)/SUM(Sheet2!$H75:$J75) -> 0.2825 | N75: =(K75+(1-L75))/2 -> 0.76708333
A76: 74 | B76: 75 | C76: Fairbanks North Star | D76: Alaska | E76: 2090 | F76: 65 | G76: -147 | H76: 1 | I76: 3 | J76: 8 | K76: =(Sheet2!$H76*Sheet3!$C$3+Sheet2!$I76*Sheet3!$D$3+Sheet2!$J76*Sheet3!$E$3)/SUM(Sheet2!$H76:$J76) -> 0.70416667 | L76: =(Sheet2!$H76*Sheet3!$C$4+Sheet2!$I76*Sheet3!$D$4+Sheet2!$J76*Sheet3!$E$4)/SUM(Sheet2!$H76:$J76) -> 0.17 | M76: =(Sheet2!$H76*Sheet3!$C$5+Sheet2!$I76*Sheet3!$D$5+Sheet2!$J76*Sheet3!$E$5)/SUM(Sheet2!$H76:$J76) -> 0.2825 | N76: =(K76+(1-L76))/2 -> 0.76708333
A77: 75 | B77: 76 | C77: Haines | D77: Alaska | E77: 2100 | F77: 59 | G77: -136 | H77: 2 | I77: 2 | J77: 8 | K77: =(Sheet2!$H77*Sheet3!$C$3+Sheet2!$I77*Sheet3!$D$3+Sheet2!$J77*Sheet3!$E$3)/SUM(Sheet2!$H77:$J77) -> 0.70833333 | L77: =(Sheet2!$H77*Sheet3!$C$4+Sheet2!$I77*Sheet3!$D$4+Sheet2!$J77*Sheet3!$E$4)/SUM(Sheet2!$H77:$J77) -> 0.17 | M77: =(Sheet2!$H77*Sheet3!$C$5+Sheet2!$I77*Sheet3!$D$5+Sheet2!$J77*Sheet3!$E$5)/SUM(Sheet2!$H77:$J77) -> 0.27833333 | N77: =(K77+(1-L77))/2 -> 0.76916667
A78: 76 | B78: 77 | C78: Juneau | D78: Alaska | E78: 2110 | F78: 58 | G78: -134 | H78: 2 | I78: 2 | J78: 8 | K78: =(Sheet2!$H78*Sheet3!$C$3+Sheet2!$I78*Sheet3!$D$3+Sheet2!$J78*Sheet3!$E$3)/SUM(Sheet2!$H78:$J78) -> 0.70833333 | L78: =(Sheet2!$H78*Sheet3!$C$4+Sheet2!$I78*Sheet3!$D$4+Sheet2!$J78*Sheet3!$E$4)/SUM(Sheet2!$H78:$J78) -> 0.17 | M78: =(Sheet2!$H78*Sheet3!$C$5+Sheet2!$I78*Sheet3!$D$5+Sheet2!$J78*Sheet3!$E$5)/SUM(Sheet2!$H78:$J78) -> 0.27833333 | N78: =(K78+(1-L78))/2 -> 0.76916667
A79: 77 | B79: 78 | C79: Kenai Peninsula | D79: Alaska | E79: 2122 | F79: 60 | G79: -152 | H79: 1 | I79: 3 | J79: 8 | K79: =(Sheet2!$H79*Sheet3!$C$3+Sheet2!$I79*Sheet3!$D$3+Sheet2!$J79*Sheet3!$E$3)/SUM(Sheet2!$H79:$J79) -> 0.70416667 | L79: =(Sheet2!$H79*Sheet3!$C$4+Sheet2!$I79*Sheet3!$D$4+Sheet2!$J79*Sheet3!$E$4)/SUM(Sheet2!$H79:$J79) -> 0.17 | M79: =(Sheet2!$H79*Sheet3!$C$5+Sheet2!$I79*Sheet3!$D$5+Sheet2!$J79*Sheet3!$E$5)/SUM(Sheet2!$H79:$J79) -> 0.2825 | N79: =(K79+(1-L79))/2 -> 0.76708333
A80: 78 | B80: 79 | C80: Ketchikan Gateway | D80: Alaska | E80: 2130 | F80: 56 | G80: -131 | H80: 2 | I80: 2 | J80: 8 | K80: =(Sheet2!$H80*Sheet3!$C$3+Sheet2!$I80*Sheet3!$D$3+Sheet2!$J80*Sheet3!$E$3)/SUM(Sheet2!$H80:$J80) -> 0.70833333 | L80: =(Sheet2!$H80*Sheet3!$C$4+Sheet2!$I80*Sheet3!$D$4+Sheet2!$J80*Sheet3!$E$4)/SUM(Sheet2!$H80:$J80) -> 0.17 | M80: =(Sheet2!$H80*Sheet3!$C$5+Sheet2!$I80*Sheet3!$D$5+Sheet2!$J80*Sheet3!$E$5)/SUM(Sheet2!$H80:$J80) -> 0.27833333 | N80: =(K80+(1-L80))/2 -> 0.76916667
... A95: 93 | B95: 94 | C95: Yukon-Koyukuk | D95: Alaska | E95: 2290 | F95: 66 | G95: -151 | H95: 1 | I95: 3 | J95: 8 | K95: =(Sheet2!$H95*Sheet3!$C$3+Sheet2!$I95*Sheet3!$D$3+Sheet2!$J95*Sheet3!$E$3)/SUM(Sheet2!$H95:$J95) -> 0.70416667 | L95: =(Sheet2!$H95*Sheet3!$C$4+Sheet2!$I95*Sheet3!$D$4+Sheet2!$J95*Sheet3!$E$4)/SUM(Sheet2!$H95:$J95) -> 0.17 | M95: =(Sheet2!$H95*Sheet3!$C$5+Sheet2!$I95*Sheet3!$D$5+Sheet2!$J95*Sheet3!$E$5)/SUM(Sheet2!$H95:$J95) -> 0.2825 | N95: =(K95+(1-L95))/2 -> 0.76708333
A96: 94 | B96: 95 | C96: Apache | D96: Arizona | E96: 4001 | F96: 35 | G96: -109 | H96: =IF($F96>34,Sheet1!B$6,Sheet1!B$7) -> 3 | I96: =IF($F96>34,Sheet1!C$6,Sheet1!C$7) -> 3 | J96: =IF($F96>34,Sheet1!D$6,Sheet1!D$7) -> 6 | K96: =(Sheet2!$H96*Sheet3!$C$3+Sheet2!$I96*Sheet3!$D$3+Sheet2!$J96*Sheet3!$E$3)/SUM(Sheet2!$H96:$J96) -> 0.7225 | L96: =(Sheet2!$H96*Sheet3!$C$4+Sheet2!$I96*Sheet3!$D$4+Sheet2!$J96*Sheet3!$E$4)/SUM(Sheet2!$H96:$J96) -> 0.17 | M96: =(Sheet2!$H96*Sheet3!$C$5+Sheet2!$I96*Sheet3!$D$5+Sheet2!$J96*Sheet3!$E$5)/SUM(Sheet2!$H96:$J96) -> 0.2675 | N96: =(K96+(1-L96))/2 -> 0.77625
A97: 95 | B97: 96 | C97: Cochise | D97: Arizona | E97: 4003 | F97: 32 | G97: -110 | H97: =IF($F97>34,Sheet1!B$6,Sheet1!B$7) -> 6 | I97: =IF($F97>34,Sheet1!C$6,Sheet1!C$7) -> 6 | J97: =IF($F97>34,Sheet1!D$6,Sheet1!D$7) -> 0 | K97: =(Sheet2!$H97*Sheet3!$C$3+Sheet2!$I97*Sheet3!$D$3+Sheet2!$J97*Sheet3!$E$3)/SUM(Sheet2!$H97:$J97) -> 0.765 | L97: =(Sheet2!$H97*Sheet3!$C$4+Sheet2!$I97*Sheet3!$D$4+Sheet2!$J97*Sheet3!$E$4)/SUM(Sheet2!$H97:$J97) -> 0.17 | M97: =(Sheet2!$H97*Sheet3!$C$5+Sheet2!$I97*Sheet3!$D$5+Sheet2!$J97*Sheet3!$E$5)/SUM(Sheet2!$H97:$J97) -> 0.235 | N97: =(K97+(1-L97))/2 -> 0.7975
A98: 96 | B98: 97 | C98: Coconino | D98: Arizona | E98: 4005 | F98: 36 | G98: -112 | H98: =IF($F98>34,Sheet1!B$6,Sheet1!B$7) -> 3 | I98: =IF($F98>34,Sheet1!C$6,Sheet1!C$7) -> 3 | J98: =IF($F98>34,Sheet1!D$6,Sheet1!D$7) -> 6 | K98: =(Sheet2!$H98*Sheet3!$C$3+Sheet2!$I98*Sheet3!$D$3+Sheet2!$J98*Sheet3!$E$3)/SUM(Sheet2!$H98:$J98) -> 0.7225 | L98: =(Sheet2!$H98*Sheet3!$C$4+Sheet2!$I98*Sheet3!$D$4+Sheet2!$J98*Sheet3!$E$4)/SUM(Sheet2!$H98:$J98) -> 0.17 | M98: =(Sheet2!$H98*Sheet3!$C$5+Sheet2!$I98*Sheet3!$D$5+Sheet2!$J98*Sheet3!$E$5)/SUM(Sheet2!$H98:$J98) -> 0.2675 | N98: =(K98+(1-L98))/2 -> 0.77625
A99: 97 | B99: 98 | C99: Gila | D99: Arizona | E99: 4007 | F99: 34 | G99: -111 | H99: =IF($F99>34,Sheet1!B$6,Sheet1!B$7) -> 6 | I99: =IF($F99>34,Sheet1!C$6,Sheet1!C$7) -> 6 | J99: =IF($F99>34,Sheet1!D$6,Sheet1!D$7) -> 0 | K99: =(Sheet2!$H99*Sheet3!$C$3+Sheet2!$I99*Sheet3!$D$3+Sheet2!$J99*Sheet3!$E$3)/SUM(Sheet2!$H99:$J99) -> 0.765 | L99: =(Sheet2!$H99*Sheet3!$C$4+Sheet2!$I99*Sheet3!$D$4+Sheet2!$J99*Sheet3!$E$4)/SUM(Sheet2!$H99:$J99) -> 0.17 | M99: =(Sheet2!$H99*Sheet3!$C$5+Sheet2!$I99*Sheet3!$D$5+Sheet2!$J99*Sheet3!$E$5)/SUM(Sheet2!$H99:$J99) -> 0.235 | N99: =(K99+(1-L99))/2 -> 0.7975
A100: 98 | B100: 99 | C100: Graham | D100: Arizona | E100: 4009 | F100: 33 | G100: -110 | H100: =IF($F100>34,Sheet1!B$6,Sheet1!B$7) -> 6 | I100: =IF($F100>34,Sheet1!C$6,Sheet1!C$7) -> 6 | J100: =IF($F100>34,Sheet1!D$6,Sheet1!D$7) -> 0 | K100: =(Sheet2!$H100*Sheet3!$C$3+Sheet2!$I100*Sheet3!$D$3+Sheet2!$J100*Sheet3!$E$3)/SUM(Sheet2!$H100:$J100) -> 0.765 | L100: =(Sheet2!$H100*Sheet3!$C$4+Sheet2!$I100*Sheet3!$D$4+Sheet2!$J100*Sheet3!$E$4)/SUM(Sheet2!$H100:$J100) -> 0.17 | M100: =(Sheet2!$H100*Sheet3!$C$5+Sheet2!$I100*Sheet3!$D$5+Sheet2!$J100*Sheet3!$E$5)/SUM(Sheet2!$H100:$J100) -> 0.235 | N100: =(K100+(1-L100))/2 -> 0.7975
A101: 99 | B101: 100 | C101: Greenlee | D101: Arizona | E101: 4011 | F101: 33 | G101: -109 | H101: =IF($F101>34,Sheet1!B$6,Sheet1!B$7) -> 6 | I101: =IF($F101>34,Sheet1!C$6,Sheet1!C$7) -> 6 | J101: =IF($F101>34,Sheet1!D$6,Sheet1!D$7) -> 0 | K101: =(Sheet2!$H101*Sheet3!$C$3+Sheet2!$I101*Sheet3!$D$3+Sheet2!$J101*Sheet3!$E$3)/SUM(Sheet2!$H101:$J101) -> 0.765 | L101: =(Sheet2!$H101*Sheet3!$C$4+Sheet2!$I101*Sheet3!$D$4+Sheet2!$J101*Sheet3!$E$4)/SUM(Sheet2!$H101:$J101) -> 0.17 | M101: =(Sheet2!$H101*Sheet3!$C$5+Sheet2!$I101*Sheet3!$D$5+Sheet2!$J101*Sheet3!$E$5)/SUM(Sheet2!$H101:$J101) -> 0.235 | N101: =(K101+(1-L101))/2 -> 0.7975
A102: 100 | B102: 101 | C102: La Paz | D102: Arizona | E102: 4012 | F102: 34 | G102: -114 | H102: =IF($F102>34,Sheet1!B$6,Sheet1!B$7) -> 6 | I102: =IF($F102>34,Sheet1!C$6,Sheet1!C$7) -> 6 | J102: =IF($F102>34,Sheet1!D$6,Sheet1!D$7) -> 0 | K102: =(Sheet2!$H102*Sheet3!$C$3+Sheet2!$I102*Sheet3!$D$3+Sheet2!$J102*Sheet3!$E$3)/SUM(Sheet2!$H102:$J102) -> 0.765 | L102: =(Sheet2!$H102*Sheet3!$C$4+Sheet2!$I102*Sheet3!$D$4+Sheet2!$J102*Sheet3!$E$4)/SUM(Sheet2!$H102:$J102) -> 0.17 | M102: =(Sheet2!$H102*Sheet3!$C$5+Sheet2!$I102*Sheet3!$D$5+Sheet2!$J102*Sheet3!$E$5)/SUM(Sheet2!$H102:$J102) -> 0.235 | N102: =(K102+(1-L102))/2 -> 0.7975
A103: 101 | B103: 102 | C103: Maricopa | D103: Arizona | E103: 4013 | F103: 33 | G103: -112 | H103: =IF($F103>34,Sheet1!B$6,Sheet1!B$7) -> 6 | I103: =IF($F103>34,Sheet1!C$6,Sheet1!C$7) -> 6 | J103: =IF($F103>34,Sheet1!D$6,Sheet1!D$7) -> 0 | K103: =(Sheet2!$H103*Sheet3!$C$3+Sheet2!$I103*Sheet3!$D$3+Sheet2!$J103*Sheet3!$E$3)/SUM(Sheet2!$H103:$J103) -> 0.765 | L103: =(Sheet2!$H103*Sheet3!$C$4+Sheet2!$I103*Sheet3!$D$4+Sheet2!$J103*Sheet3!$E$4)/SUM(Sheet2!$H103:$J103) -> 0.17 | M103: =(Sheet2!$H103*Sheet3!$C$5+Sheet2!$I103*Sheet3!$D$5+Sheet2!$J103*Sheet3!$E$5)/SUM(Sheet2!$H103:$J103) -> 0.235 | N103: =(K103+(1-L103))/2 -> 0.7975
A104: 102 | B104: 103 | C104: Mohave | D104: Arizona | E104: 4015 | F104: 36 | G104: -114 | H104: =IF($F104>34,Sheet1!B$6,Sheet1!B$7) -> 3 | I104: =IF($F104>34,Sheet1!C$6,Sheet1!C$7) -> 3 | J104: =IF($F104>34,Sheet1!D$6,Sheet1!D$7) -> 6 | K104: =(Sheet2!$H104*Sheet3!$C$3+Sheet2!$I104*Sheet3!$D$3+Sheet2!$J104*Sheet3!$E$3)/SUM(Sheet2!$H104:$J104) -> 0.7225 | L104: =(Sheet2!$H104*Sheet3!$C$4+Sheet2!$I104*Sheet3!$D$4+Sheet2!$J104*Sheet3!$E$4)/SUM(Sheet2!$H104:$J104) -> 0.17 | M104: =(Sheet2!$H104*Sheet3!$C$5+Sheet2!$I104*Sheet3!$D$5+Sheet2!$J104*Sheet3!$E$5)/SUM(Sheet2!$H104:$J104) -> 0.2675 | N104: =(K104+(1-L104))/2 -> 0.77625
A105: 103 | B105: 104 | C105: Navajo | D105: Arizona | E105: 4017 | F105: 35 | G105: -110 | H105: =IF($F105>34,Sheet1!B$6,Sheet1!B$7) -> 3 | I105: =IF($F105>34,Sheet1!C$6,Sheet1!C$7) -> 3 | J105: =IF($F105>34,Sheet1!D$6,Sheet1!D$7) -> 6 | K105: =(Sheet2!$H105*Sheet3!$C$3+Sheet2!$I105*Sheet3!$D$3+Sheet2!$J105*Sheet3!$E$3)/SUM(Sheet2!$H105:$J105) -> 0.7225 | L105: =(Sheet2!$H105*Sheet3!$C$4+Sheet2!$I105*Sheet3!$D$4+Sheet2!$J105*Sheet3!$E$4)/SUM(Sheet2!$H105:$J105) -> 0.17 | M105: =(Sheet2!$H105*Sheet3!$C$5+Sheet2!$I105*Sheet3!$D$5+Sheet2!$J105*Sheet3!$E$5)/SUM(Sheet2!$H105:$J105) -> 0.2675 | N105: =(K105+(1-L105))/2 -> 0.77625
A106: 104 | B106: 105 | C106: Pima | D106: Arizona | E106: 4019 | F106: 32 | G106: -112 | H106: =IF($F106>34,Sheet1!B$6,Sheet1!B$7) -> 6 | I106: =IF($F106>34,Sheet1!C$6,Sheet1!C$7) -> 6 | J106: =IF($F106>34,Sheet1!D$6,Sheet1!D$7) -> 0 | K106: =(Sheet2!$H106*Sheet3!$C$3+Sheet2!$I106*Sheet3!$D$3+Sheet2!$J106*Sheet3!$E$3)/SUM(Sheet2!$H106:$J106) -> 0.765 | L106: =(Sheet2!$H106*Sheet3!$C$4+Sheet2!$I106*Sheet3!$D$4+Sheet2!$J106*Sheet3!$E$4)/SUM(Sheet2!$H106:$J106) -> 0.17 | M106: =(Sheet2!$H106*Sheet3!$C$5+Sheet2!$I106*Sheet3!$D$5+Sheet2!$J106*Sheet3!$E$5)/SUM(Sheet2!$H106:$J106) -> 0.235 | N106: =(K106+(1-L106))/2 -> 0.7975
A107: 105 | B107: 106 | C107: Pinal | D107: Arizona | E107: 4021 | F107: 33 | G107: -111 | H107: =IF($F107>34,Sheet1!B$6,Sheet1!B$7) -> 6 | I107: =IF($F107>34,Sheet1!C$6,Sheet1!C$7) -> 6 | J107: =IF($F107>34,Sheet1!D$6,Sheet1!D$7) -> 0 | K107: =(Sheet2!$H107*Sheet3!$C$3+Sheet2!$I107*Sheet3!$D$3+Sheet2!$J107*Sheet3!$E$3)/SUM(Sheet2!$H107:$J107) -> 0.765 | L107: =(Sheet2!$H107*Sheet3!$C$4+Sheet2!$I107*Sheet3!$D$4+Sheet2!$J107*Sheet3!$E$4)/SUM(Sheet2!$H107:$J107) -> 0.17 | M107: =(Sheet2!$H107*Sheet3!$C$5+Sheet2!$I107*Sheet3!$D$5+Sheet2!$J107*Sheet3!$E$5)/SUM(Sheet2!$H107:$J107) -> 0.235 | N107: =(K107+(1-L107))/2 -> 0.7975
... A110: 108 | B110: 109 | C110: Yuma | D110: Arizona | E110: 4027 | F110: 33 | G110: -114 | H110: =IF($F110>34,Sheet1!B$6,Sheet1!B$7) -> 6 | I110: =IF($F110>34,Sheet1!C$6,Sheet1!C$7) -> 6 | J110: =IF($F110>34,Sheet1!D$6,Sheet1!D$7) -> 0 | K110: =(Sheet2!$H110*Sheet3!$C$3+Sheet2!$I110*Sheet3!$D$3+Sheet2!$J110*Sheet3!$E$3)/SUM(Sheet2!$H110:$J110) -> 0.765 | L110: =(Sheet2!$H110*Sheet3!$C$4+Sheet2!$I110*Sheet3!$D$4+Sheet2!$J110*Sheet3!$E$4)/SUM(Sheet2!$H110:$J110) -> 0.17 | M110: =(Sheet2!$H110*Sheet3!$C$5+Sheet2!$I110*Sheet3!$D$5+Sheet2!$J110*Sheet3!$E$5)/SUM(Sheet2!$H110:$J110) -> 0.235 | N110: =(K110+(1-L110))/2 -> 0.7975
A111: 109 | B111: 110 | C111: Arkansas | D111: Arkansas | E111: 5001 | F111: 34 | G111: -91 | H111: 5 | I111: 3 | J111: 4 | K111: =(Sheet2!$H111*Sheet3!$C$3+Sheet2!$I111*Sheet3!$D$3+Sheet2!$J111*Sheet3!$E$3)/SUM(Sheet2!$H111:$J111) -> 0.74083333 | L111: =(Sheet2!$H111*Sheet3!$C$4+Sheet2!$I111*Sheet3!$D$4+Sheet2!$J111*Sheet3!$E$4)/SUM(Sheet2!$H111:$J111) -> 0.17 | M111: =(Sheet2!$H111*Sheet3!$C$5+Sheet2!$I111*Sheet3!$D$5+Sheet2!$J111*Sheet3!$E$5)/SUM(Sheet2!$H111:$J111) -> 0.2525 | N111: =(K111+(1-L111))/2 -> 0.78541667
A112: 110 | B112: 111 | C112: Ashley | D112: Arkansas | E112: 5003 | F112: 33 | G112: -92 | H112: 5 | I112: 3 | J112: 4 | K112: =(Sheet2!$H112*Sheet3!$C$3+Sheet2!$I112*Sheet3!$D$3+Sheet2!$J112*Sheet3!$E$3)/SUM(Sheet2!$H112:$J112) -> 0.74083333 | L112: =(Sheet2!$H112*Sheet3!$C$4+Sheet2!$I112*Sheet3!$D$4+Sheet2!$J112*Sheet3!$E$4)/SUM(Sheet2!$H112:$J112) -> 0.17 | M112: =(Sheet2!$H112*Sheet3!$C$5+Sheet2!$I112*Sheet3!$D$5+Sheet2!$J112*Sheet3!$E$5)/SUM(Sheet2!$H112:$J112) -> 0.2525 | N112: =(K112+(1-L112))/2 -> 0.78541667
A113: 111 | B113: 112 | C113: Baxter | D113: Arkansas | E113: 5005 | F113: 36 | G113: -92 | H113: 5 | I113: 3 | J113: 4 | K113: =(Sheet2!$H113*Sheet3!$C$3+Sheet2!$I113*Sheet3!$D$3+Sheet2!$J113*Sheet3!$E$3)/SUM(Sheet2!$H113:$J113) -> 0.74083333 | L113: =(Sheet2!$H113*Sheet3!$C$4+Sheet2!$I113*Sheet3!$D$4+Sheet2!$J113*Sheet3!$E$4)/SUM(Sheet2!$H113:$J113) -> 0.17 | M113: =(Sheet2!$H113*Sheet3!$C$5+Sheet2!$I113*Sheet3!$D$5+Sheet2!$J113*Sheet3!$E$5)/SUM(Sheet2!$H113:$J113) -> 0.2525 | N113: =(K113+(1-L113))/2 -> 0.78541667
A114: 112 | B114: 113 | C114: Benton | D114: Arkansas | E114: 5007 | F114: 36 | G114: -94 | H114: 5 | I114: 3 | J114: 4 | K114: =(Sheet2!$H114*Sheet3!$C$3+Sheet2!$I114*Sheet3!$D$3+Sheet2!$J114*Sheet3!$E$3)/SUM(Sheet2!$H114:$J114) -> 0.74083333 | L114: =(Sheet2!$H114*Sheet3!$C$4+Sheet2!$I114*Sheet3!$D$4+Sheet2!$J114*Sheet3!$E$4)/SUM(Sheet2!$H114:$J114) -> 0.17 | M114: =(Sheet2!$H114*Sheet3!$C$5+Sheet2!$I114*Sheet3!$D$5+Sheet2!$J114*Sheet3!$E$5)/SUM(Sheet2!$H114:$J114) -> 0.2525 | N114: =(K114+(1-L114))/2 -> 0.78541667
A115: 113 | B115: 114 | C115: Boone | D115: Arkansas | E115: 5009 | F115: 36 | G115: -93 | H115: 5 | I115: 3 | J115: 4 | K115: =(Sheet2!$H115*Sheet3!$C$3+Sheet2!$I115*Sheet3!$D$3+Sheet2!$J115*Sheet3!$E$3)/SUM(Sheet2!$H115:$J115) -> 0.74083333 | L115: =(Sheet2!$H115*Sheet3!$C$4+Sheet2!$I115*Sheet3!$D$4+Sheet2!$J115*Sheet3!$E$4)/SUM(Sheet2!$H115:$J115) -> 0.17 | M115: =(Sheet2!$H115*Sheet3!$C$5+Sheet2!$I115*Sheet3!$D$5+Sheet2!$J115*Sheet3!$E$5)/SUM(Sheet2!$H115:$J115) -> 0.2525 | N115: =(K115+(1-L115))/2 -> 0.78541667
A116: 114 | B116: 115 | C116: Bradley | D116: Arkansas | E116: 5011 | F116: 33 | G116: -92 | H116: 5 | I116: 3 | J116: 4 | K116: =(Sheet2!$H116*Sheet3!$C$3+Sheet2!$I116*Sheet3!$D$3+Sheet2!$J116*Sheet3!$E$3)/SUM(Sheet2!$H116:$J116) -> 0.74083333 | L116: =(Sheet2!$H116*Sheet3!$C$4+Sheet2!$I116*Sheet3!$D$4+Sheet2!$J116*Sheet3!$E$4)/SUM(Sheet2!$H116:$J116) -> 0.17 | M116: =(Sheet2!$H116*Sheet3!$C$5+Sheet2!$I116*Sheet3!$D$5+Sheet2!$J116*Sheet3!$E$5)/SUM(Sheet2!$H116:$J116) -> 0.2525 | N116: =(K116+(1-L116))/2 -> 0.78541667
A117: 115 | B117: 116 | C117: Calhoun | D117: Arkansas | E117: 5013 | F117: 34 | G117: -93 | H117: 5 | I117: 3 | J117: 4 | K117: =(Sheet2!$H117*Sheet3!$C$3+Sheet2!$I117*Sheet3!$D$3+Sheet2!$J117*Sheet3!$E$3)/SUM(Sheet2!$H117:$J117) -> 0.74083333 | L117: =(Sheet2!$H117*Sheet3!$C$4+Sheet2!$I117*Sheet3!$D$4+Sheet2!$J117*Sheet3!$E$4)/SUM(Sheet2!$H117:$J117) -> 0.17 | M117: =(Sheet2!$H117*Sheet3!$C$5+Sheet2!$I117*Sheet3!$D$5+Sheet2!$J117*Sheet3!$E$5)/SUM(Sheet2!$H117:$J117) -> 0.2525 | N117: =(K117+(1-L117))/2 -> 0.78541667
A118: 116 | B118: 117 | C118: Carroll | D118: Arkansas | E118: 5015 | F118: 36 | G118: -94 | H118: 5 | I118: 3 | J118: 4 | K118: =(Sheet2!$H118*Sheet3!$C$3+Sheet2!$I118*Sheet3!$D$3+Sheet2!$J118*Sheet3!$E$3)/SUM(Sheet2!$H118:$J118) -> 0.74083333 | L118: =(Sheet2!$H118*Sheet3!$C$4+Sheet2!$I118*Sheet3!$D$4+Sheet2!$J118*Sheet3!$E$4)/SUM(Sheet2!$H118:$J118) -> 0.17 | M118: =(Sheet2!$H118*Sheet3!$C$5+Sheet2!$I118*Sheet3!$D$5+Sheet2!$J118*Sheet3!$E$5)/SUM(Sheet2!$H118:$J118) -> 0.2525 | N118: =(K118+(1-L118))/2 -> 0.78541667
A119: 117 | B119: 118 | C119: Chicot | D119: Arkansas | E119: 5017 | F119: 33 | G119: -91 | H119: 5 | I119: 3 | J119: 4 | K119: =(Sheet2!$H119*Sheet3!$C$3+Sheet2!$I119*Sheet3!$D$3+Sheet2!$J119*Sheet3!$E$3)/SUM(Sheet2!$H119:$J119) -> 0.74083333 | L119: =(Sheet2!$H119*Sheet3!$C$4+Sheet2!$I119*Sheet3!$D$4+Sheet2!$J119*Sheet3!$E$4)/SUM(Sheet2!$H119:$J119) -> 0.17 | M119: =(Sheet2!$H119*Sheet3!$C$5+Sheet2!$I119*Sheet3!$D$5+Sheet2!$J119*Sheet3!$E$5)/SUM(Sheet2!$H119:$J119) -> 0.2525 | N119: =(K119+(1-L119))/2 -> 0.78541667
A120: 118 | B120: 119 | C120: Clark | D120: Arkansas | E120: 5019 | F120: 34 | G120: -93 | H120: 5 | I120: 3 | J120: 4 | K120: =(Sheet2!$H120*Sheet3!$C$3+Sheet2!$I120*Sheet3!$D$3+Sheet2!$J120*Sheet3!$E$3)/SUM(Sheet2!$H120:$J120) -> 0.74083333 | L120: =(Sheet2!$H120*Sheet3!$C$4+Sheet2!$I120*Sheet3!$D$4+Sheet2!$J120*Sheet3!$E$4)/SUM(Sheet2!$H120:$J120) -> 0.17 | M120: =(Sheet2!$H120*Sheet3!$C$5+Sheet2!$I120*Sheet3!$D$5+Sheet2!$J120*Sheet3!$E$5)/SUM(Sheet2!$H120:$J120) -> 0.2525 | N120: =(K120+(1-L120))/2 -> 0.78541667
A121: 119 | B121: 120 | C121: Clay | D121: Arkansas | E121: 5021 | F121: 36 | G121: -90 | H121: 5 | I121: 3 | J121: 4 | K121: =(Sheet2!$H121*Sheet3!$C$3+Sheet2!$I121*Sheet3!$D$3+Sheet2!$J121*Sheet3!$E$3)/SUM(Sheet2!$H121:$J121) -> 0.74083333 | L121: =(Sheet2!$H121*Sheet3!$C$4+Sheet2!$I121*Sheet3!$D$4+Sheet2!$J121*Sheet3!$E$4)/SUM(Sheet2!$H121:$J121) -> 0.17 | M121: =(Sheet2!$H121*Sheet3!$C$5+Sheet2!$I121*Sheet3!$D$5+Sheet2!$J121*Sheet3!$E$5)/SUM(Sheet2!$H121:$J121) -> 0.2525 | N121: =(K121+(1-L121))/2 -> 0.78541667
A122: 120 | B122: 121 | C122: Cleburne | D122: Arkansas | E122: 5023 | F122: 36 | G122: -92 | H122: 5 | I122: 3 | J122: 4 | K122: =(Sheet2!$H122*Sheet3!$C$3+Sheet2!$I122*Sheet3!$D$3+Sheet2!$J122*Sheet3!$E$3)/SUM(Sheet2!$H122:$J122) -> 0.74083333 | L122: =(Sheet2!$H122*Sheet3!$C$4+Sheet2!$I122*Sheet3!$D$4+Sheet2!$J122*Sheet3!$E$4)/SUM(Sheet2!$H122:$J122) -> 0.17 | M122: =(Sheet2!$H122*Sheet3!$C$5+Sheet2!$I122*Sheet3!$D$5+Sheet2!$J122*Sheet3!$E$5)/SUM(Sheet2!$H122:$J122) -> 0.2525 | N122: =(K122+(1-L122))/2 -> 0.78541667
... A243: 241 | B243: 242 | C243: Yuba | D243: California | E243: 6115 | F243: 39 | G243: -121 | H243: 4 | I243: 8 | J243: 0 | K243: =(Sheet2!$H243*Sheet3!$C$3+Sheet2!$I243*Sheet3!$D$3+Sheet2!$J243*Sheet3!$E$3)/SUM(Sheet2!$H243:$J243) -> 0.75666667 | L243: =(Sheet2!$H243*Sheet3!$C$4+Sheet2!$I243*Sheet3!$D$4+Sheet2!$J243*Sheet3!$E$4)/SUM(Sheet2!$H243:$J243) -> 0.17 | M243: =(Sheet2!$H243*Sheet3!$C$5+Sheet2!$I243*Sheet3!$D$5+Sheet2!$J243*Sheet3!$E$5)/SUM(Sheet2!$H243:$J243) -> 0.24333333 | N243: =(K243+(1-L243))/2 -> 0.79333333
A244: 242 | B244: 243 | C244: Adams | D244: Colorado | E244: 8001 | F244: 40 | G244: -104 | H244: =IF(-$G244<104,Sheet1!B$13,Sheet1!B$14) -> 1 | I244: =IF(-$G244<104,Sheet1!C$13,Sheet1!C$14) -> 3 | J244: =IF(-$G244<104,Sheet1!D$13,Sheet1!D$14) -> 8 | K244: =(Sheet2!$H244*Sheet3!$C$3+Sheet2!$I244*Sheet3!$D$3+Sheet2!$J244*Sheet3!$E$3)/SUM(Sheet2!$H244:$J244) -> 0.70416667 | L244: =(Sheet2!$H244*Sheet3!$C$4+Sheet2!$I244*Sheet3!$D$4+Sheet2!$J244*Sheet3!$E$4)/SUM(Sheet2!$H244:$J244) -> 0.17 | M244: =(Sheet2!$H244*Sheet3!$C$5+Sheet2!$I244*Sheet3!$D$5+Sheet2!$J244*Sheet3!$E$5)/SUM(Sheet2!$H244:$J244) -> 0.2825 | N244: =(K244+(1-L244))/2 -> 0.76708333
A245: 243 | B245: 244 | C245: Alamosa | D245: Colorado | E245: 8003 | F245: 38 | G245: -106 | H245: =IF(-$G245<104,Sheet1!B$13,Sheet1!B$14) -> 1 | I245: =IF(-$G245<104,Sheet1!C$13,Sheet1!C$14) -> 3 | J245: =IF(-$G245<104,Sheet1!D$13,Sheet1!D$14) -> 8 | K245: =(Sheet2!$H245*Sheet3!$C$3+Sheet2!$I245*Sheet3!$D$3+Sheet2!$J245*Sheet3!$E$3)/SUM(Sheet2!$H245:$J245) -> 0.70416667 | L245: =(Sheet2!$H245*Sheet3!$C$4+Sheet2!$I245*Sheet3!$D$4+Sheet2!$J245*Sheet3!$E$4)/SUM(Sheet2!$H245:$J245) -> 0.17 | M245: =(Sheet2!$H245*Sheet3!$C$5+Sheet2!$I245*Sheet3!$D$5+Sheet2!$J245*Sheet3!$E$5)/SUM(Sheet2!$H245:$J245) -> 0.2825 | N245: =(K245+(1-L245))/2 -> 0.76708333
A246: 244 | B246: 245 | C246: Arapahoe | D246: Colorado | E246: 8005 | F246: 40 | G246: -104 | H246: =IF(-$G246<104,Sheet1!B$13,Sheet1!B$14) -> 1 | I246: =IF(-$G246<104,Sheet1!C$13,Sheet1!C$14) -> 3 | J246: =IF(-$G246<104,Sheet1!D$13,Sheet1!D$14) -> 8 | K246: =(Sheet2!$H246*Sheet3!$C$3+Sheet2!$I246*Sheet3!$D$3+Sheet2!$J246*Sheet3!$E$3)/SUM(Sheet2!$H246:$J246) -> 0.70416667 | L246: =(Sheet2!$H246*Sheet3!$C$4+Sheet2!$I246*Sheet3!$D$4+Sheet2!$J246*Sheet3!$E$4)/SUM(Sheet2!$H246:$J246) -> 0.17 | M246: =(Sheet2!$H246*Sheet3!$C$5+Sheet2!$I246*Sheet3!$D$5+Sheet2!$J246*Sheet3!$E$5)/SUM(Sheet2!$H246:$J246) -> 0.2825 | N246: =(K246+(1-L246))/2 -> 0.76708333
A247: 245 | B247: 246 | C247: Archuleta | D247: Colorado | E247: 8007 | F247: 37 | G247: -107 | H247: =IF(-$G247<104,Sheet1!B$13,Sheet1!B$14) -> 1 | I247: =IF(-$G247<104,Sheet1!C$13,Sheet1!C$14) -> 3 | J247: =IF(-$G247<104,Sheet1!D$13,Sheet1!D$14) -> 8 | K247: =(Sheet2!$H247*Sheet3!$C$3+Sheet2!$I247*Sheet3!$D$3+Sheet2!$J247*Sheet3!$E$3)/SUM(Sheet2!$H247:$J247) -> 0.70416667 | L247: =(Sheet2!$H247*Sheet3!$C$4+Sheet2!$I247*Sheet3!$D$4+Sheet2!$J247*Sheet3!$E$4)/SUM(Sheet2!$H247:$J247) -> 0.17 | M247: =(Sheet2!$H247*Sheet3!$C$5+Sheet2!$I247*Sheet3!$D$5+Sheet2!$J247*Sheet3!$E$5)/SUM(Sheet2!$H247:$J247) -> 0.2825 | N247: =(K247+(1-L247))/2 -> 0.76708333
A248: 246 | B248: 247 | C248: Baca | D248: Colorado | E248: 8009 | F248: 37 | G248: -103 | H248: =IF(-$G248<104,Sheet1!B$13,Sheet1!B$14) -> 3 | I248: =IF(-$G248<104,Sheet1!C$13,Sheet1!C$14) -> 3 | J248: =IF(-$G248<104,Sheet1!D$13,Sheet1!D$14) -> 6 | K248: =(Sheet2!$H248*Sheet3!$C$3+Sheet2!$I248*Sheet3!$D$3+Sheet2!$J248*Sheet3!$E$3)/SUM(Sheet2!$H248:$J248) -> 0.7225 | L248: =(Sheet2!$H248*Sheet3!$C$4+Sheet2!$I248*Sheet3!$D$4+Sheet2!$J248*Sheet3!$E$4)/SUM(Sheet2!$H248:$J248) -> 0.17 | M248: =(Sheet2!$H248*Sheet3!$C$5+Sheet2!$I248*Sheet3!$D$5+Sheet2!$J248*Sheet3!$E$5)/SUM(Sheet2!$H248:$J248) -> 0.2675 | N248: =(K248+(1-L248))/2 -> 0.77625
A249: 247 | B249: 248 | C249: Bent | D249: Colorado | E249: 8011 | F249: 38 | G249: -103 | H249: =IF(-$G249<104,Sheet1!B$13,Sheet1!B$14) -> 3 | I249: =IF(-$G249<104,Sheet1!C$13,Sheet1!C$14) -> 3 | J249: =IF(-$G249<104,Sheet1!D$13,Sheet1!D$14) -> 6 | K249: =(Sheet2!$H249*Sheet3!$C$3+Sheet2!$I249*Sheet3!$D$3+Sheet2!$J249*Sheet3!$E$3)/SUM(Sheet2!$H249:$J249) -> 0.7225 | L249: =(Sheet2!$H249*Sheet3!$C$4+Sheet2!$I249*Sheet3!$D$4+Sheet2!$J249*Sheet3!$E$4)/SUM(Sheet2!$H249:$J249) -> 0.17 | M249: =(Sheet2!$H249*Sheet3!$C$5+Sheet2!$I249*Sheet3!$D$5+Sheet2!$J249*Sheet3!$E$5)/SUM(Sheet2!$H249:$J249) -> 0.2675 | N249: =(K249+(1-L249))/2 -> 0.77625
A250: 248 | B250: 249 | C250: Boulder | D250: Colorado | E250: 8013 | F250: 40 | G250: -105 | H250: =IF(-$G250<104,Sheet1!B$13,Sheet1!B$14) -> 1 | I250: =IF(-$G250<104,Sheet1!C$13,Sheet1!C$14) -> 3 | J250: =IF(-$G250<104,Sheet1!D$13,Sheet1!D$14) -> 8 | K250: =(Sheet2!$H250*Sheet3!$C$3+Sheet2!$I250*Sheet3!$D$3+Sheet2!$J250*Sheet3!$E$3)/SUM(Sheet2!$H250:$J250) -> 0.70416667 | L250: =(Sheet2!$H250*Sheet3!$C$4+Sheet2!$I250*Sheet3!$D$4+Sheet2!$J250*Sheet3!$E$4)/SUM(Sheet2!$H250:$J250) -> 0.17 | M250: =(Sheet2!$H250*Sheet3!$C$5+Sheet2!$I250*Sheet3!$D$5+Sheet2!$J250*Sheet3!$E$5)/SUM(Sheet2!$H250:$J250) -> 0.2825 | N250: =(K250+(1-L250))/2 -> 0.76708333
A251: 249 | B251: 250 | C251: Broomfield | D251: Colorado | E251: 8014 | F251: 40 | G251: -105 | H251: =IF(-$G251<104,Sheet1!B$13,Sheet1!B$14) -> 1 | I251: =IF(-$G251<104,Sheet1!C$13,Sheet1!C$14) -> 3 | J251: =IF(-$G251<104,Sheet1!D$13,Sheet1!D$14) -> 8 | K251: =(Sheet2!$H251*Sheet3!$C$3+Sheet2!$I251*Sheet3!$D$3+Sheet2!$J251*Sheet3!$E$3)/SUM(Sheet2!$H251:$J251) -> 0.70416667 | L251: =(Sheet2!$H251*Sheet3!$C$4+Sheet2!$I251*Sheet3!$D$4+Sheet2!$J251*Sheet3!$E$4)/SUM(Sheet2!$H251:$J251) -> 0.17 | M251: =(Sheet2!$H251*Sheet3!$C$5+Sheet2!$I251*Sheet3!$D$5+Sheet2!$J251*Sheet3!$E$5)/SUM(Sheet2!$H251:$J251) -> 0.2825 | N251: =(K251+(1-L251))/2 -> 0.76708333
A252: 250 | B252: 251 | C252: Chaffee | D252: Colorado | E252: 8015 | F252: 39 | G252: -106 | H252: =IF(-$G252<104,Sheet1!B$13,Sheet1!B$14) -> 1 | I252: =IF(-$G252<104,Sheet1!C$13,Sheet1!C$14) -> 3 | J252: =IF(-$G252<104,Sheet1!D$13,Sheet1!D$14) -> 8 | K252: =(Sheet2!$H252*Sheet3!$C$3+Sheet2!$I252*Sheet3!$D$3+Sheet2!$J252*Sheet3!$E$3)/SUM(Sheet2!$H252:$J252) -> 0.70416667 | L252: =(Sheet2!$H252*Sheet3!$C$4+Sheet2!$I252*Sheet3!$D$4+Sheet2!$J252*Sheet3!$E$4)/SUM(Sheet2!$H252:$J252) -> 0.17 | M252: =(Sheet2!$H252*Sheet3!$C$5+Sheet2!$I252*Sheet3!$D$5+Sheet2!$J252*Sheet3!$E$5)/SUM(Sheet2!$H252:$J252) -> 0.2825 | N252: =(K252+(1-L252))/2 -> 0.76708333
A253: 251 | B253: 252 | C253: Cheyenne | D253: Colorado | E253: 8017 | F253: 39 | G253: -103 | H253: =IF(-$G253<104,Sheet1!B$13,Sheet1!B$14) -> 3 | I253: =IF(-$G253<104,Sheet1!C$13,Sheet1!C$14) -> 3 | J253: =IF(-$G253<104,Sheet1!D$13,Sheet1!D$14) -> 6 | K253: =(Sheet2!$H253*Sheet3!$C$3+Sheet2!$I253*Sheet3!$D$3+Sheet2!$J253*Sheet3!$E$3)/SUM(Sheet2!$H253:$J253) -> 0.7225 | L253: =(Sheet2!$H253*Sheet3!$C$4+Sheet2!$I253*Sheet3!$D$4+Sheet2!$J253*Sheet3!$E$4)/SUM(Sheet2!$H253:$J253) -> 0.17 | M253: =(Sheet2!$H253*Sheet3!$C$5+Sheet2!$I253*Sheet3!$D$5+Sheet2!$J253*Sheet3!$E$5)/SUM(Sheet2!$H253:$J253) -> 0.2675 | N253: =(K253+(1-L253))/2 -> 0.77625
A254: 252 | B254: 253 | C254: Clear Creek | D254: Colorado | E254: 8019 | F254: 40 | G254: -106 | H254: =IF(-$G254<104,Sheet1!B$13,Sheet1!B$14) -> 1 | I254: =IF(-$G254<104,Sheet1!C$13,Sheet1!C$14) -> 3 | J254: =IF(-$G254<104,Sheet1!D$13,Sheet1!D$14) -> 8 | K254: =(Sheet2!$H254*Sheet3!$C$3+Sheet2!$I254*Sheet3!$D$3+Sheet2!$J254*Sheet3!$E$3)/SUM(Sheet2!$H254:$J254) -> 0.70416667 | L254: =(Sheet2!$H254*Sheet3!$C$4+Sheet2!$I254*Sheet3!$D$4+Sheet2!$J254*Sheet3!$E$4)/SUM(Sheet2!$H254:$J254) -> 0.17 | M254: =(Sheet2!$H254*Sheet3!$C$5+Sheet2!$I254*Sheet3!$D$5+Sheet2!$J254*Sheet3!$E$5)/SUM(Sheet2!$H254:$J254) -> 0.2825 | N254: =(K254+(1-L254))/2 -> 0.76708333
A255: 253 | B255: 254 | C255: Conejos | D255: Colorado | E255: 8021 | F255: 37 | G255: -106 | H255: =IF(-$G255<104,Sheet1!B$13,Sheet1!B$14) -> 1 | I255: =IF(-$G255<104,Sheet1!C$13,Sheet1!C$14) -> 3 | J255: =IF(-$G255<104,Sheet1!D$13,Sheet1!D$14) -> 8 | K255: =(Sheet2!$H255*Sheet3!$C$3+Sheet2!$I255*Sheet3!$D$3+Sheet2!$J255*Sheet3!$E$3)/SUM(Sheet2!$H255:$J255) -> 0.70416667 | L255: =(Sheet2!$H255*Sheet3!$C$4+Sheet2!$I255*Sheet3!$D$4+Sheet2!$J255*Sheet3!$E$4)/SUM(Sheet2!$H255:$J255) -> 0.17 | M255: =(Sheet2!$H255*Sheet3!$C$5+Sheet2!$I255*Sheet3!$D$5+Sheet2!$J255*Sheet3!$E$5)/SUM(Sheet2!$H255:$J255) -> 0.2825 | N255: =(K255+(1-L255))/2 -> 0.76708333
... A307: 305 | B307: 306 | C307: Yuma | D307: Colorado | E307: 8125 | F307: 40 | G307: -102 | H307: =IF(-$G307<104,Sheet1!B$13,Sheet1!B$14) -> 3 | I307: =IF(-$G307<104,Sheet1!C$13,Sheet1!C$14) -> 3 | J307: =IF(-$G307<104,Sheet1!D$13,Sheet1!D$14) -> 6 | K307: =(Sheet2!$H307*Sheet3!$C$3+Sheet2!$I307*Sheet3!$D$3+Sheet2!$J307*Sheet3!$E$3)/SUM(Sheet2!$H307:$J307) -> 0.7225 | L307: =(Sheet2!$H307*Sheet3!$C$4+Sheet2!$I307*Sheet3!$D$4+Sheet2!$J307*Sheet3!$E$4)/SUM(Sheet2!$H307:$J307) -> 0.17 | M307: =(Sheet2!$H307*Sheet3!$C$5+Sheet2!$I307*Sheet3!$D$5+Sheet2!$J307*Sheet3!$E$5)/SUM(Sheet2!$H307:$J307) -> 0.2675 | N307: =(K307+(1-L307))/2 -> 0.77625
A308: 306 | B308: 307 | C308: Fairfield | D308: Connecticut | E308: 9001 | F308: 41 | G308: -73 | H308: 3 | I308: 4 | J308: 5 | K308: =(Sheet2!$H308*Sheet3!$C$3+Sheet2!$I308*Sheet3!$D$3+Sheet2!$J308*Sheet3!$E$3)/SUM(Sheet2!$H308:$J308) -> 0.7275 | L308: =(Sheet2!$H308*Sheet3!$C$4+Sheet2!$I308*Sheet3!$D$4+Sheet2!$J308*Sheet3!$E$4)/SUM(Sheet2!$H308:$J308) -> 0.17 | M308: =(Sheet2!$H308*Sheet3!$C$5+Sheet2!$I308*Sheet3!$D$5+Sheet2!$J308*Sheet3!$E$5)/SUM(Sheet2!$H308:$J308) -> 0.26416667 | N308: =(K308+(1-L308))/2 -> 0.77875
A309: 307 | B309: 308 | C309: Hartford | D309: Connecticut | E309: 9003 | F309: 42 | G309: -73 | H309: 3 | I309: 4 | J309: 5 | K309: =(Sheet2!$H309*Sheet3!$C$3+Sheet2!$I309*Sheet3!$D$3+Sheet2!$J309*Sheet3!$E$3)/SUM(Sheet2!$H309:$J309) -> 0.7275 | L309: =(Sheet2!$H309*Sheet3!$C$4+Sheet2!$I309*Sheet3!$D$4+Sheet2!$J309*Sheet3!$E$4)/SUM(Sheet2!$H309:$J309) -> 0.17 | M309: =(Sheet2!$H309*Sheet3!$C$5+Sheet2!$I309*Sheet3!$D$5+Sheet2!$J309*Sheet3!$E$5)/SUM(Sheet2!$H309:$J309) -> 0.26416667 | N309: =(K309+(1-L309))/2 -> 0.77875
A310: 308 | B310: 309 | C310: Litchfield | D310: Connecticut | E310: 9005 | F310: 42 | G310: -73 | H310: 3 | I310: 4 | J310: 5 | K310: =(Sheet2!$H310*Sheet3!$C$3+Sheet2!$I310*Sheet3!$D$3+Sheet2!$J310*Sheet3!$E$3)/SUM(Sheet2!$H310:$J310) -> 0.7275 | L310: =(Sheet2!$H310*Sheet3!$C$4+Sheet2!$I310*Sheet3!$D$4+Sheet2!$J310*Sheet3!$E$4)/SUM(Sheet2!$H310:$J310) -> 0.17 | M310: =(Sheet2!$H310*Sheet3!$C$5+Sheet2!$I310*Sheet3!$D$5+Sheet2!$J310*Sheet3!$E$5)/SUM(Sheet2!$H310:$J310) -> 0.26416667 | N310: =(K310+(1-L310))/2 -> 0.77875
A311: 309 | B311: 310 | C311: Middlesex | D311: Connecticut | E311: 9007 | F311: 41 | G311: -73 | H311: 3 | I311: 4 | J311: 5 | K311: =(Sheet2!$H311*Sheet3!$C$3+Sheet2!$I311*Sheet3!$D$3+Sheet2!$J311*Sheet3!$E$3)/SUM(Sheet2!$H311:$J311) -> 0.7275 | L311: =(Sheet2!$H311*Sheet3!$C$4+Sheet2!$I311*Sheet3!$D$4+Sheet2!$J311*Sheet3!$E$4)/SUM(Sheet2!$H311:$J311) -> 0.17 | M311: =(Sheet2!$H311*Sheet3!$C$5+Sheet2!$I311*Sheet3!$D$5+Sheet2!$J311*Sheet3!$E$5)/SUM(Sheet2!$H311:$J311) -> 0.26416667 | N311: =(K311+(1-L311))/2 -> 0.77875
A312: 310 | B312: 311 | C312: New Haven | D312: Connecticut | E312: 9009 | F312: 41 | G312: -73 | H312: 3 | I312: 4 | J312: 5 | K312: =(Sheet2!$H312*Sheet3!$C$3+Sheet2!$I312*Sheet3!$D$3+Sheet2!$J312*Sheet3!$E$3)/SUM(Sheet2!$H312:$J312) -> 0.7275 | L312: =(Sheet2!$H312*Sheet3!$C$4+Sheet2!$I312*Sheet3!$D$4+Sheet2!$J312*Sheet3!$E$4)/SUM(Sheet2!$H312:$J312) -> 0.17 | M312: =(Sheet2!$H312*Sheet3!$C$5+Sheet2!$I312*Sheet3!$D$5+Sheet2!$J312*Sheet3!$E$5)/SUM(Sheet2!$H312:$J312) -> 0.26416667 | N312: =(K312+(1-L312))/2 -> 0.77875
A313: 311 | B313: 312 | C313: New London | D313: Connecticut | E313: 9011 | F313: 41 | G313: -72 | H313: 3 | I313: 4 | J313: 5 | K313: =(Sheet2!$H313*Sheet3!$C$3+Sheet2!$I313*Sheet3!$D$3+Sheet2!$J313*Sheet3!$E$3)/SUM(Sheet2!$H313:$J313) -> 0.7275 | L313: =(Sheet2!$H313*Sheet3!$C$4+Sheet2!$I313*Sheet3!$D$4+Sheet2!$J313*Sheet3!$E$4)/SUM(Sheet2!$H313:$J313) -> 0.17 | M313: =(Sheet2!$H313*Sheet3!$C$5+Sheet2!$I313*Sheet3!$D$5+Sheet2!$J313*Sheet3!$E$5)/SUM(Sheet2!$H313:$J313) -> 0.26416667 | N313: =(K313+(1-L313))/2 -> 0.77875
A314: 312 | B314: 313 | C314: Tolland | D314: Connecticut | E314: 9013 | F314: 42 | G314: -72 | H314: 3 | I314: 4 | J314: 5 | K314: =(Sheet2!$H314*Sheet3!$C$3+Sheet2!$I314*Sheet3!$D$3+Sheet2!$J314*Sheet3!$E$3)/SUM(Sheet2!$H314:$J314) -> 0.7275 | L314: =(Sheet2!$H314*Sheet3!$C$4+Sheet2!$I314*Sheet3!$D$4+Sheet2!$J314*Sheet3!$E$4)/SUM(Sheet2!$H314:$J314) -> 0.17 | M314: =(Sheet2!$H314*Sheet3!$C$5+Sheet2!$I314*Sheet3!$D$5+Sheet2!$J314*Sheet3!$E$5)/SUM(Sheet2!$H314:$J314) -> 0.26416667 | N314: =(K314+(1-L314))/2 -> 0.77875
A315: 313 | B315: 314 | C315: Windham | D315: Connecticut | E315: 9015 | F315: 42 | G315: -72 | H315: 3 | I315: 4 | J315: 5 | K315: =(Sheet2!$H315*Sheet3!$C$3+Sheet2!$I315*Sheet3!$D$3+Sheet2!$J315*Sheet3!$E$3)/SUM(Sheet2!$H315:$J315) -> 0.7275 | L315: =(Sheet2!$H315*Sheet3!$C$4+Sheet2!$I315*Sheet3!$D$4+Sheet2!$J315*Sheet3!$E$4)/SUM(Sheet2!$H315:$J315) -> 0.17 | M315: =(Sheet2!$H315*Sheet3!$C$5+Sheet2!$I315*Sheet3!$D$5+Sheet2!$J315*Sheet3!$E$5)/SUM(Sheet2!$H315:$J315) -> 0.26416667 | N315: =(K315+(1-L315))/2 -> 0.77875
A316: 314 | B316: 315 | C316: Kent | D316: Delaware | E316: 10001 | F316: 39 | G316: -76 | H316: 4 | I316: 4 | J316: 4 | K316: =(Sheet2!$H316*Sheet3!$C$3+Sheet2!$I316*Sheet3!$D$3+Sheet2!$J316*Sheet3!$E$3)/SUM(Sheet2!$H316:$J316) -> 0.73666667 | L316: =(Sheet2!$H316*Sheet3!$C$4+Sheet2!$I316*Sheet3!$D$4+Sheet2!$J316*Sheet3!$E$4)/SUM(Sheet2!$H316:$J316) -> 0.17 | M316: =(Sheet2!$H316*Sheet3!$C$5+Sheet2!$I316*Sheet3!$D$5+Sheet2!$J316*Sheet3!$E$5)/SUM(Sheet2!$H316:$J316) -> 0.25666667 | N316: =(K316+(1-L316))/2 -> 0.78333333
A317: 315 | B317: 316 | C317: New Castle | D317: Delaware | E317: 10003 | F317: 40 | G317: -76 | H317: 4 | I317: 4 | J317: 4 | K317: =(Sheet2!$H317*Sheet3!$C$3+Sheet2!$I317*Sheet3!$D$3+Sheet2!$J317*Sheet3!$E$3)/SUM(Sheet2!$H317:$J317) -> 0.73666667 | L317: =(Sheet2!$H317*Sheet3!$C$4+Sheet2!$I317*Sheet3!$D$4+Sheet2!$J317*Sheet3!$E$4)/SUM(Sheet2!$H317:$J317) -> 0.17 | M317: =(Sheet2!$H317*Sheet3!$C$5+Sheet2!$I317*Sheet3!$D$5+Sheet2!$J317*Sheet3!$E$5)/SUM(Sheet2!$H317:$J317) -> 0.25666667 | N317: =(K317+(1-L317))/2 -> 0.78333333
A318: 316 | B318: 317 | C318: Sussex | D318: Delaware | E318: 10005 | F318: 39 | G318: -75 | H318: 4 | I318: 4 | J318: 4 | K318: =(Sheet2!$H318*Sheet3!$C$3+Sheet2!$I318*Sheet3!$D$3+Sheet2!$J318*Sheet3!$E$3)/SUM(Sheet2!$H318:$J318) -> 0.73666667 | L318: =(Sheet2!$H318*Sheet3!$C$4+Sheet2!$I318*Sheet3!$D$4+Sheet2!$J318*Sheet3!$E$4)/SUM(Sheet2!$H318:$J318) -> 0.17 | M318: =(Sheet2!$H318*Sheet3!$C$5+Sheet2!$I318*Sheet3!$D$5+Sheet2!$J318*Sheet3!$E$5)/SUM(Sheet2!$H318:$J318) -> 0.25666667 | N318: =(K318+(1-L318))/2 -> 0.78333333
A319: 317 | B319: 318 | C319: District of Columbia | D319: District of Columbia | E319: 11001 | F319: 39 | G319: -77 | H319: 4 | I319: 4 | J319: 4 | K319: =(Sheet2!$H319*Sheet3!$C$3+Sheet2!$I319*Sheet3!$D$3+Sheet2!$J319*Sheet3!$E$3)/SUM(Sheet2!$H319:$J319) -> 0.73666667 | L319: =(Sheet2!$H319*Sheet3!$C$4+Sheet2!$I319*Sheet3!$D$4+Sheet2!$J319*Sheet3!$E$4)/SUM(Sheet2!$H319:$J319) -> 0.17 | M319: =(Sheet2!$H319*Sheet3!$C$5+Sheet2!$I319*Sheet3!$D$5+Sheet2!$J319*Sheet3!$E$5)/SUM(Sheet2!$H319:$J319) -> 0.25666667 | N319: =(K319+(1-L319))/2 -> 0.78333333
A320: 318 | B320: 319 | C320: Alachua | D320: Florida | E320: 12001 | F320: 30 | G320: -82 | H320: =IF($F320>29,Sheet1!B$18,Sheet1!B$19) -> 6 | I320: =IF($F320>29,Sheet1!C$18,Sheet1!C$19) -> 6 | J320: =IF($F320>29,Sheet1!D$18,Sheet1!D$19) -> 0 | K320: =(Sheet2!$H320*Sheet3!$C$3+Sheet2!$I320*Sheet3!$D$3+Sheet2!$J320*Sheet3!$E$3)/SUM(Sheet2!$H320:$J320) -> 0.765 | L320: =(Sheet2!$H320*Sheet3!$C$4+Sheet2!$I320*Sheet3!$D$4+Sheet2!$J320*Sheet3!$E$4)/SUM(Sheet2!$H320:$J320) -> 0.17 | M320: =(Sheet2!$H320*Sheet3!$C$5+Sheet2!$I320*Sheet3!$D$5+Sheet2!$J320*Sheet3!$E$5)/SUM(Sheet2!$H320:$J320) -> 0.235 | N320: =(K320+(1-L320))/2 -> 0.7975
A321: 319 | B321: 320 | C321: Baker | D321: Florida | E321: 12003 | F321: 30 | G321: -82 | H321: =IF($F321>29,Sheet1!B$18,Sheet1!B$19) -> 6 | I321: =IF($F321>29,Sheet1!C$18,Sheet1!C$19) -> 6 | J321: =IF($F321>29,Sheet1!D$18,Sheet1!D$19) -> 0 | K321: =(Sheet2!$H321*Sheet3!$C$3+Sheet2!$I321*Sheet3!$D$3+Sheet2!$J321*Sheet3!$E$3)/SUM(Sheet2!$H321:$J321) -> 0.765 | L321: =(Sheet2!$H321*Sheet3!$C$4+Sheet2!$I321*Sheet3!$D$4+Sheet2!$J321*Sheet3!$E$4)/SUM(Sheet2!$H321:$J321) -> 0.17 | M321: =(Sheet2!$H321*Sheet3!$C$5+Sheet2!$I321*Sheet3!$D$5+Sheet2!$J321*Sheet3!$E$5)/SUM(Sheet2!$H321:$J321) -> 0.235 | N321: =(K321+(1-L321))/2 -> 0.7975
A322: 320 | B322: 321 | C322: Bay | D322: Florida | E322: 12005 | F322: 30 | G322: -86 | H322: =IF($F322>29,Sheet1!B$18,Sheet1!B$19) -> 6 | I322: =IF($F322>29,Sheet1!C$18,Sheet1!C$19) -> 6 | J322: =IF($F322>29,Sheet1!D$18,Sheet1!D$19) -> 0 | K322: =(Sheet2!$H322*Sheet3!$C$3+Sheet2!$I322*Sheet3!$D$3+Sheet2!$J322*Sheet3!$E$3)/SUM(Sheet2!$H322:$J322) -> 0.765 | L322: =(Sheet2!$H322*Sheet3!$C$4+Sheet2!$I322*Sheet3!$D$4+Sheet2!$J322*Sheet3!$E$4)/SUM(Sheet2!$H322:$J322) -> 0.17 | M322: =(Sheet2!$H322*Sheet3!$C$5+Sheet2!$I322*Sheet3!$D$5+Sheet2!$J322*Sheet3!$E$5)/SUM(Sheet2!$H322:$J322) -> 0.235 | N322: =(K322+(1-L322))/2 -> 0.7975
A323: 321 | B323: 322 | C323: Bradford | D323: Florida | E323: 12007 | F323: 30 | G323: -82 | H323: =IF($F323>29,Sheet1!B$18,Sheet1!B$19) -> 6 | I323: =IF($F323>29,Sheet1!C$18,Sheet1!C$19) -> 6 | J323: =IF($F323>29,Sheet1!D$18,Sheet1!D$19) -> 0 | K323: =(Sheet2!$H323*Sheet3!$C$3+Sheet2!$I323*Sheet3!$D$3+Sheet2!$J323*Sheet3!$E$3)/SUM(Sheet2!$H323:$J323) -> 0.765 | L323: =(Sheet2!$H323*Sheet3!$C$4+Sheet2!$I323*Sheet3!$D$4+Sheet2!$J323*Sheet3!$E$4)/SUM(Sheet2!$H323:$J323) -> 0.17 | M323: =(Sheet2!$H323*Sheet3!$C$5+Sheet2!$I323*Sheet3!$D$5+Sheet2!$J323*Sheet3!$E$5)/SUM(Sheet2!$H323:$J323) -> 0.235 | N323: =(K323+(1-L323))/2 -> 0.7975
A324: 322 | B324: 323 | C324: Brevard | D324: Florida | E324: 12009 | F324: 28 | G324: -81 | H324: =IF($F324>29,Sheet1!B$18,Sheet1!B$19) -> 9 | I324: =IF($F324>29,Sheet1!C$18,Sheet1!C$19) -> 3 | J324: =IF($F324>29,Sheet1!D$18,Sheet1!D$19) -> 0 | K324: =(Sheet2!$H324*Sheet3!$C$3+Sheet2!$I324*Sheet3!$D$3+Sheet2!$J324*Sheet3!$E$3)/SUM(Sheet2!$H324:$J324) -> 0.7775 | L324: =(Sheet2!$H324*Sheet3!$C$4+Sheet2!$I324*Sheet3!$D$4+Sheet2!$J324*Sheet3!$E$4)/SUM(Sheet2!$H324:$J324) -> 0.17 | M324: =(Sheet2!$H324*Sheet3!$C$5+Sheet2!$I324*Sheet3!$D$5+Sheet2!$J324*Sheet3!$E$5)/SUM(Sheet2!$H324:$J324) -> 0.2225 | N324: =(K324+(1-L324))/2 -> 0.80375
A325: 323 | B325: 324 | C325: Broward | D325: Florida | E325: 12011 | F325: 26 | G325: -80 | H325: =IF($F325>29,Sheet1!B$18,Sheet1!B$19) -> 9 | I325: =IF($F325>29,Sheet1!C$18,Sheet1!C$19) -> 3 | J325: =IF($F325>29,Sheet1!D$18,Sheet1!D$19) -> 0 | K325: =(Sheet2!$H325*Sheet3!$C$3+Sheet2!$I325*Sheet3!$D$3+Sheet2!$J325*Sheet3!$E$3)/SUM(Sheet2!$H325:$J325) -> 0.7775 | L325: =(Sheet2!$H325*Sheet3!$C$4+Sheet2!$I325*Sheet3!$D$4+Sheet2!$J325*Sheet3!$E$4)/SUM(Sheet2!$H325:$J325) -> 0.17 | M325: =(Sheet2!$H325*Sheet3!$C$5+Sheet2!$I325*Sheet3!$D$5+Sheet2!$J325*Sheet3!$E$5)/SUM(Sheet2!$H325:$J325) -> 0.2225 | N325: =(K325+(1-L325))/2 -> 0.80375
A326: 324 | B326: 325 | C326: Calhoun | D326: Florida | E326: 12013 | F326: 30 | G326: -85 | H326: =IF($F326>29,Sheet1!B$18,Sheet1!B$19) -> 6 | I326: =IF($F326>29,Sheet1!C$18,Sheet1!C$19) -> 6 | J326: =IF($F326>29,Sheet1!D$18,Sheet1!D$19) -> 0 | K326: =(Sheet2!$H326*Sheet3!$C$3+Sheet2!$I326*Sheet3!$D$3+Sheet2!$J326*Sheet3!$E$3)/SUM(Sheet2!$H326:$J326) -> 0.765 | L326: =(Sheet2!$H326*Sheet3!$C$4+Sheet2!$I326*Sheet3!$D$4+Sheet2!$J326*Sheet3!$E$4)/SUM(Sheet2!$H326:$J326) -> 0.17 | M326: =(Sheet2!$H326*Sheet3!$C$5+Sheet2!$I326*Sheet3!$D$5+Sheet2!$J326*Sheet3!$E$5)/SUM(Sheet2!$H326:$J326) -> 0.235 | N326: =(K326+(1-L326))/2 -> 0.7975
A327: 325 | B327: 326 | C327: Charlotte | D327: Florida | E327: 12015 | F327: 27 | G327: -82 | H327: =IF($F327>29,Sheet1!B$18,Sheet1!B$19) -> 9 | I327: =IF($F327>29,Sheet1!C$18,Sheet1!C$19) -> 3 | J327: =IF($F327>29,Sheet1!D$18,Sheet1!D$19) -> 0 | K327: =(Sheet2!$H327*Sheet3!$C$3+Sheet2!$I327*Sheet3!$D$3+Sheet2!$J327*Sheet3!$E$3)/SUM(Sheet2!$H327:$J327) -> 0.7775 | L327: =(Sheet2!$H327*Sheet3!$C$4+Sheet2!$I327*Sheet3!$D$4+Sheet2!$J327*Sheet3!$E$4)/SUM(Sheet2!$H327:$J327) -> 0.17 | M327: =(Sheet2!$H327*Sheet3!$C$5+Sheet2!$I327*Sheet3!$D$5+Sheet2!$J327*Sheet3!$E$5)/SUM(Sheet2!$H327:$J327) -> 0.2225 | N327: =(K327+(1-L327))/2 -> 0.80375
A328: 326 | B328: 327 | C328: Citrus | D328: Florida | E328: 12017 | F328: 29 | G328: -82 | H328: =IF($F328>29,Sheet1!B$18,Sheet1!B$19) -> 9 | I328: =IF($F328>29,Sheet1!C$18,Sheet1!C$19) -> 3 | J328: =IF($F328>29,Sheet1!D$18,Sheet1!D$19) -> 0 | K328: =(Sheet2!$H328*Sheet3!$C$3+Sheet2!$I328*Sheet3!$D$3+Sheet2!$J328*Sheet3!$E$3)/SUM(Sheet2!$H328:$J328) -> 0.7775 | L328: =(Sheet2!$H328*Sheet3!$C$4+Sheet2!$I328*Sheet3!$D$4+Sheet2!$J328*Sheet3!$E$4)/SUM(Sheet2!$H328:$J328) -> 0.17 | M328: =(Sheet2!$H328*Sheet3!$C$5+Sheet2!$I328*Sheet3!$D$5+Sheet2!$J328*Sheet3!$E$5)/SUM(Sheet2!$H328:$J328) -> 0.2225 | N328: =(K328+(1-L328))/2 -> 0.80375
A329: 327 | B329: 328 | C329: Clay | D329: Florida | E329: 12019 | F329: 30 | G329: -82 | H329: =IF($F329>29,Sheet1!B$18,Sheet1!B$19) -> 6 | I329: =IF($F329>29,Sheet1!C$18,Sheet1!C$19) -> 6 | J329: =IF($F329>29,Sheet1!D$18,Sheet1!D$19) -> 0 | K329: =(Sheet2!$H329*Sheet3!$C$3+Sheet2!$I329*Sheet3!$D$3+Sheet2!$J329*Sheet3!$E$3)/SUM(Sheet2!$H329:$J329) -> 0.765 | L329: =(Sheet2!$H329*Sheet3!$C$4+Sheet2!$I329*Sheet3!$D$4+Sheet2!$J329*Sheet3!$E$4)/SUM(Sheet2!$H329:$J329) -> 0.17 | M329: =(Sheet2!$H329*Sheet3!$C$5+Sheet2!$I329*Sheet3!$D$5+Sheet2!$J329*Sheet3!$E$5)/SUM(Sheet2!$H329:$J329) -> 0.235 | N329: =(K329+(1-L329))/2 -> 0.7975
A330: 328 | B330: 329 | C330: Collier | D330: Florida | E330: 12021 | F330: 26 | G330: -81 | H330: =IF($F330>29,Sheet1!B$18,Sheet1!B$19) -> 9 | I330: =IF($F330>29,Sheet1!C$18,Sheet1!C$19) -> 3 | J330: =IF($F330>29,Sheet1!D$18,Sheet1!D$19) -> 0 | K330: =(Sheet2!$H330*Sheet3!$C$3+Sheet2!$I330*Sheet3!$D$3+Sheet2!$J330*Sheet3!$E$3)/SUM(Sheet2!$H330:$J330) -> 0.7775 | L330: =(Sheet2!$H330*Sheet3!$C$4+Sheet2!$I330*Sheet3!$D$4+Sheet2!$J330*Sheet3!$E$4)/SUM(Sheet2!$H330:$J330) -> 0.17 | M330: =(Sheet2!$H330*Sheet3!$C$5+Sheet2!$I330*Sheet3!$D$5+Sheet2!$J330*Sheet3!$E$5)/SUM(Sheet2!$H330:$J330) -> 0.2225 | N330: =(K330+(1-L330))/2 -> 0.80375
A331: 329 | B331: 330 | C331: Columbia | D331: Florida | E331: 12023 | F331: 30 | G331: -83 | H331: =IF($F331>29,Sheet1!B$18,Sheet1!B$19) -> 6 | I331: =IF($F331>29,Sheet1!C$18,Sheet1!C$19) -> 6 | J331: =IF($F331>29,Sheet1!D$18,Sheet1!D$19) -> 0 | K331: =(Sheet2!$H331*Sheet3!$C$3+Sheet2!$I331*Sheet3!$D$3+Sheet2!$J331*Sheet3!$E$3)/SUM(Sheet2!$H331:$J331) -> 0.765 | L331: =(Sheet2!$H331*Sheet3!$C$4+Sheet2!$I331*Sheet3!$D$4+Sheet2!$J331*Sheet3!$E$4)/SUM(Sheet2!$H331:$J331) -> 0.17 | M331: =(Sheet2!$H331*Sheet3!$C$5+Sheet2!$I331*Sheet3!$D$5+Sheet2!$J331*Sheet3!$E$5)/SUM(Sheet2!$H331:$J331) -> 0.235 | N331: =(K331+(1-L331))/2 -> 0.7975
... A386: 384 | B386: 385 | C386: Washington | D386: Florida | E386: 12133 | F386: 31 | G386: -86 | H386: =IF($F386>29,Sheet1!B$18,Sheet1!B$19) -> 6 | I386: =IF($F386>29,Sheet1!C$18,Sheet1!C$19) -> 6 | J386: =IF($F386>29,Sheet1!D$18,Sheet1!D$19) -> 0 | K386: =(Sheet2!$H386*Sheet3!$C$3+Sheet2!$I386*Sheet3!$D$3+Sheet2!$J386*Sheet3!$E$3)/SUM(Sheet2!$H386:$J386) -> 0.765 | L386: =(Sheet2!$H386*Sheet3!$C$4+Sheet2!$I386*Sheet3!$D$4+Sheet2!$J386*Sheet3!$E$4)/SUM(Sheet2!$H386:$J386) -> 0.17 | M386: =(Sheet2!$H386*Sheet3!$C$5+Sheet2!$I386*Sheet3!$D$5+Sheet2!$J386*Sheet3!$E$5)/SUM(Sheet2!$H386:$J386) -> 0.235 | N386: =(K386+(1-L386))/2 -> 0.7975
A387: 385 | B387: 386 | C387: Appling | D387: Georgia | E387: 13001 | F387: 32 | G387: -82 | H387: 6 | I387: 4 | J387: 2 | K387: =(Sheet2!$H387*Sheet3!$C$3+Sheet2!$I387*Sheet3!$D$3+Sheet2!$J387*Sheet3!$E$3)/SUM(Sheet2!$H387:$J387) -> 0.755 | L387: =(Sheet2!$H387*Sheet3!$C$4+Sheet2!$I387*Sheet3!$D$4+Sheet2!$J387*Sheet3!$E$4)/SUM(Sheet2!$H387:$J387) -> 0.17 | M387: =(Sheet2!$H387*Sheet3!$C$5+Sheet2!$I387*Sheet3!$D$5+Sheet2!$J387*Sheet3!$E$5)/SUM(Sheet2!$H387:$J387) -> 0.24166667 | N387: =(K387+(1-L387))/2 -> 0.7925
A388: 386 | B388: 387 | C388: Atkinson | D388: Georgia | E388: 13003 | F388: 31 | G388: -83 | H388: 6 | I388: 4 | J388: 2 | K388: =(Sheet2!$H388*Sheet3!$C$3+Sheet2!$I388*Sheet3!$D$3+Sheet2!$J388*Sheet3!$E$3)/SUM(Sheet2!$H388:$J388) -> 0.755 | L388: =(Sheet2!$H388*Sheet3!$C$4+Sheet2!$I388*Sheet3!$D$4+Sheet2!$J388*Sheet3!$E$4)/SUM(Sheet2!$H388:$J388) -> 0.17 | M388: =(Sheet2!$H388*Sheet3!$C$5+Sheet2!$I388*Sheet3!$D$5+Sheet2!$J388*Sheet3!$E$5)/SUM(Sheet2!$H388:$J388) -> 0.24166667 | N388: =(K388+(1-L388))/2 -> 0.7925
A389: 387 | B389: 388 | C389: Bacon | D389: Georgia | E389: 13005 | F389: 32 | G389: -82 | H389: 6 | I389: 4 | J389: 2 | K389: =(Sheet2!$H389*Sheet3!$C$3+Sheet2!$I389*Sheet3!$D$3+Sheet2!$J389*Sheet3!$E$3)/SUM(Sheet2!$H389:$J389) -> 0.755 | L389: =(Sheet2!$H389*Sheet3!$C$4+Sheet2!$I389*Sheet3!$D$4+Sheet2!$J389*Sheet3!$E$4)/SUM(Sheet2!$H389:$J389) -> 0.17 | M389: =(Sheet2!$H389*Sheet3!$C$5+Sheet2!$I389*Sheet3!$D$5+Sheet2!$J389*Sheet3!$E$5)/SUM(Sheet2!$H389:$J389) -> 0.24166667 | N389: =(K389+(1-L389))/2 -> 0.7925
A390: 388 | B390: 389 | C390: Baker | D390: Georgia | E390: 13007 | F390: 31 | G390: -84 | H390: 6 | I390: 4 | J390: 2 | K390: =(Sheet2!$H390*Sheet3!$C$3+Sheet2!$I390*Sheet3!$D$3+Sheet2!$J390*Sheet3!$E$3)/SUM(Sheet2!$H390:$J390) -> 0.755 | L390: =(Sheet2!$H390*Sheet3!$C$4+Sheet2!$I390*Sheet3!$D$4+Sheet2!$J390*Sheet3!$E$4)/SUM(Sheet2!$H390:$J390) -> 0.17 | M390: =(Sheet2!$H390*Sheet3!$C$5+Sheet2!$I390*Sheet3!$D$5+Sheet2!$J390*Sheet3!$E$5)/SUM(Sheet2!$H390:$J390) -> 0.24166667 | N390: =(K390+(1-L390))/2 -> 0.7925
A391: 389 | B391: 390 | C391: Baldwin | D391: Georgia | E391: 13009 | F391: 33 | G391: -83 | H391: 6 | I391: 4 | J391: 2 | K391: =(Sheet2!$H391*Sheet3!$C$3+Sheet2!$I391*Sheet3!$D$3+Sheet2!$J391*Sheet3!$E$3)/SUM(Sheet2!$H391:$J391) -> 0.755 | L391: =(Sheet2!$H391*Sheet3!$C$4+Sheet2!$I391*Sheet3!$D$4+Sheet2!$J391*Sheet3!$E$4)/SUM(Sheet2!$H391:$J391) -> 0.17 | M391: =(Sheet2!$H391*Sheet3!$C$5+Sheet2!$I391*Sheet3!$D$5+Sheet2!$J391*Sheet3!$E$5)/SUM(Sheet2!$H391:$J391) -> 0.24166667 | N391: =(K391+(1-L391))/2 -> 0.7925
A392: 390 | B392: 391 | C392: Banks | D392: Georgia | E392: 13011 | F392: 34 | G392: -83 | H392: 6 | I392: 4 | J392: 2 | K392: =(Sheet2!$H392*Sheet3!$C$3+Sheet2!$I392*Sheet3!$D$3+Sheet2!$J392*Sheet3!$E$3)/SUM(Sheet2!$H392:$J392) -> 0.755 | L392: =(Sheet2!$H392*Sheet3!$C$4+Sheet2!$I392*Sheet3!$D$4+Sheet2!$J392*Sheet3!$E$4)/SUM(Sheet2!$H392:$J392) -> 0.17 | M392: =(Sheet2!$H392*Sheet3!$C$5+Sheet2!$I392*Sheet3!$D$5+Sheet2!$J392*Sheet3!$E$5)/SUM(Sheet2!$H392:$J392) -> 0.24166667 | N392: =(K392+(1-L392))/2 -> 0.7925
A393: 391 | B393: 392 | C393: Barrow | D393: Georgia | E393: 13013 | F393: 34 | G393: -84 | H393: 6 | I393: 4 | J393: 2 | K393: =(Sheet2!$H393*Sheet3!$C$3+Sheet2!$I393*Sheet3!$D$3+Sheet2!$J393*Sheet3!$E$3)/SUM(Sheet2!$H393:$J393) -> 0.755 | L393: =(Sheet2!$H393*Sheet3!$C$4+Sheet2!$I393*Sheet3!$D$4+Sheet2!$J393*Sheet3!$E$4)/SUM(Sheet2!$H393:$J393) -> 0.17 | M393: =(Sheet2!$H393*Sheet3!$C$5+Sheet2!$I393*Sheet3!$D$5+Sheet2!$J393*Sheet3!$E$5)/SUM(Sheet2!$H393:$J393) -> 0.24166667 | N393: =(K393+(1-L393))/2 -> 0.7925
A394: 392 | B394: 393 | C394: Bartow | D394: Georgia | E394: 13015 | F394: 34 | G394: -85 | H394: 6 | I394: 4 | J394: 2 | K394: =(Sheet2!$H394*Sheet3!$C$3+Sheet2!$I394*Sheet3!$D$3+Sheet2!$J394*Sheet3!$E$3)/SUM(Sheet2!$H394:$J394) -> 0.755 | L394: =(Sheet2!$H394*Sheet3!$C$4+Sheet2!$I394*Sheet3!$D$4+Sheet2!$J394*Sheet3!$E$4)/SUM(Sheet2!$H394:$J394) -> 0.17 | M394: =(Sheet2!$H394*Sheet3!$C$5+Sheet2!$I394*Sheet3!$D$5+Sheet2!$J394*Sheet3!$E$5)/SUM(Sheet2!$H394:$J394) -> 0.24166667 | N394: =(K394+(1-L394))/2 -> 0.7925
A395: 393 | B395: 394 | C395: Ben Hill | D395: Georgia | E395: 13017 | F395: 32 | G395: -83 | H395: 6 | I395: 4 | J395: 2 | K395: =(Sheet2!$H395*Sheet3!$C$3+Sheet2!$I395*Sheet3!$D$3+Sheet2!$J395*Sheet3!$E$3)/SUM(Sheet2!$H395:$J395) -> 0.755 | L395: =(Sheet2!$H395*Sheet3!$C$4+Sheet2!$I395*Sheet3!$D$4+Sheet2!$J395*Sheet3!$E$4)/SUM(Sheet2!$H395:$J395) -> 0.17 | M395: =(Sheet2!$H395*Sheet3!$C$5+Sheet2!$I395*Sheet3!$D$5+Sheet2!$J395*Sheet3!$E$5)/SUM(Sheet2!$H395:$J395) -> 0.24166667 | N395: =(K395+(1-L395))/2 -> 0.7925
...

Sheet Sheet3
C1: Volatility class
C2: 1 | D2: 2 | E2: 3
B3: Minimum EtOH volume (%) | C3: 0.79 | D3: 0.74 | E3: 0.68
B4: Min Hydrocarbons (%) | C4: 0.17 | D4: 0.17 | E4: 0.17
B5: Max Hydrocarbons (%) | C5: 0.21 | D5: 0.26 | E5: 0.3
